BEGIN:VCALENDAR
VERSION:2.0
PRODID:-//All Saints&#039; Episcopal Church Carmel-by-the-Sea, California - ECPv6.15.20//NONSGML v1.0//EN
CALSCALE:GREGORIAN
METHOD:PUBLISH
X-WR-CALNAME:All Saints&#039; Episcopal Church Carmel-by-the-Sea, California
X-ORIGINAL-URL:https://www.allsaintscarmel.org
X-WR-CALDESC:Events for All Saints&#039; Episcopal Church Carmel-by-the-Sea, California
REFRESH-INTERVAL;VALUE=DURATION:PT1H
X-Robots-Tag:noindex
X-PUBLISHED-TTL:PT1H
BEGIN:VTIMEZONE
TZID:America/Los_Angeles
BEGIN:DAYLIGHT
TZOFFSETFROM:-0800
TZOFFSETTO:-0700
TZNAME:PDT
DTSTART:20250309T100000
END:DAYLIGHT
BEGIN:STANDARD
TZOFFSETFROM:-0700
TZOFFSETTO:-0800
TZNAME:PST
DTSTART:20251102T090000
END:STANDARD
BEGIN:DAYLIGHT
TZOFFSETFROM:-0800
TZOFFSETTO:-0700
TZNAME:PDT
DTSTART:20260308T100000
END:DAYLIGHT
BEGIN:STANDARD
TZOFFSETFROM:-0700
TZOFFSETTO:-0800
TZNAME:PST
DTSTART:20261101T090000
END:STANDARD
BEGIN:DAYLIGHT
TZOFFSETFROM:-0800
TZOFFSETTO:-0700
TZNAME:PDT
DTSTART:20270314T100000
END:DAYLIGHT
BEGIN:STANDARD
TZOFFSETFROM:-0700
TZOFFSETTO:-0800
TZNAME:PST
DTSTART:20271107T090000
END:STANDARD
END:VTIMEZONE
BEGIN:VEVENT
DTSTART;TZID=America/Los_Angeles:20260225T120000
DTEND;TZID=America/Los_Angeles:20260225T140000
DTSTAMP:20260422T063246
CREATED:20260225T183136Z
LAST-MODIFIED:20260225T185046Z
UID:10000673-1772020800-1772028000@www.allsaintscarmel.org
SUMMARY:Lenten Luncheon & Speaker Series
DESCRIPTION:February 25 \nOUR CALL TO SOCIAL JUSTICE \nwith The Rev. Amber Sturgess\nWhat is our call to social justice?  How do we love our neighbor as our self? \nHow do we strive for justice and peace among all people\, and respect the dignity of every human being?
URL:https://www.allsaintscarmel.org/calendar/lenten-luncheon-speaker-series-2026-2/
LOCATION:All Saints’ Seccombe Hall\, 9th and Dolores\, Carmel\, CA\, 93923\, United States
ORGANIZER;CN="Rev. Amber Sturgess":MAILTO:rector@allsaintscarmel.org
END:VEVENT
END:VCALENDAR