BEGIN:VCALENDAR
VERSION:2.0
PRODID:-//All Saints&#039; Episcopal Church Carmel-by-the-Sea, California - ECPv6.15.20//NONSGML v1.0//EN
CALSCALE:GREGORIAN
METHOD:PUBLISH
X-WR-CALNAME:All Saints&#039; Episcopal Church Carmel-by-the-Sea, California
X-ORIGINAL-URL:https://www.allsaintscarmel.org
X-WR-CALDESC:Events for All Saints&#039; Episcopal Church Carmel-by-the-Sea, California
REFRESH-INTERVAL;VALUE=DURATION:PT1H
X-Robots-Tag:noindex
X-PUBLISHED-TTL:PT1H
BEGIN:VTIMEZONE
TZID:America/Los_Angeles
BEGIN:DAYLIGHT
TZOFFSETFROM:-0800
TZOFFSETTO:-0700
TZNAME:PDT
DTSTART:20250309T100000
END:DAYLIGHT
BEGIN:STANDARD
TZOFFSETFROM:-0700
TZOFFSETTO:-0800
TZNAME:PST
DTSTART:20251102T090000
END:STANDARD
BEGIN:DAYLIGHT
TZOFFSETFROM:-0800
TZOFFSETTO:-0700
TZNAME:PDT
DTSTART:20260308T100000
END:DAYLIGHT
BEGIN:STANDARD
TZOFFSETFROM:-0700
TZOFFSETTO:-0800
TZNAME:PST
DTSTART:20261101T090000
END:STANDARD
BEGIN:DAYLIGHT
TZOFFSETFROM:-0800
TZOFFSETTO:-0700
TZNAME:PDT
DTSTART:20270314T100000
END:DAYLIGHT
BEGIN:STANDARD
TZOFFSETFROM:-0700
TZOFFSETTO:-0800
TZNAME:PST
DTSTART:20271107T090000
END:STANDARD
END:VTIMEZONE
BEGIN:VEVENT
DTSTART;TZID=America/Los_Angeles:20260401T103000
DTEND;TZID=America/Los_Angeles:20260401T120000
DTSTAMP:20260424T092527
CREATED:20260326T074742Z
LAST-MODIFIED:20260326T074742Z
UID:10000765-1775039400-1775044800@www.allsaintscarmel.org
SUMMARY:Bible Study
DESCRIPTION:During the Lenten Season we will continue to read\, study and ponder Paul’s First Letter to the Corinthians. The mystery of Christ’s Cross and Resurrection and the Gift of the Holy Spirit are at the heart of Pauline theology and this is no less true of this letter than the others. This makes it appropriate reading for the seasons of Lent and Easter(or any season). All the baptized are incorporated into Christ and so daily we die with Him\, we rise in Him to new life\, life in the Holy Spirit of God. 
URL:https://www.allsaintscarmel.org/calendar/bible-study-5/
LOCATION:All Saints’ Library\, Ninth & Dolores Ave.\, Carmel-by-the-Sea\, CA\, 93921
END:VEVENT
END:VCALENDAR