BEGIN:VCALENDAR
VERSION:2.0
PRODID:-//All Saints&#039; Episcopal Church Carmel-by-the-Sea, California - ECPv6.15.20//NONSGML v1.0//EN
CALSCALE:GREGORIAN
METHOD:PUBLISH
X-WR-CALNAME:All Saints&#039; Episcopal Church Carmel-by-the-Sea, California
X-ORIGINAL-URL:https://www.allsaintscarmel.org
X-WR-CALDESC:Events for All Saints&#039; Episcopal Church Carmel-by-the-Sea, California
REFRESH-INTERVAL;VALUE=DURATION:PT1H
X-Robots-Tag:noindex
X-PUBLISHED-TTL:PT1H
BEGIN:VTIMEZONE
TZID:America/Los_Angeles
BEGIN:DAYLIGHT
TZOFFSETFROM:-0800
TZOFFSETTO:-0700
TZNAME:PDT
DTSTART:20250309T100000
END:DAYLIGHT
BEGIN:STANDARD
TZOFFSETFROM:-0700
TZOFFSETTO:-0800
TZNAME:PST
DTSTART:20251102T090000
END:STANDARD
BEGIN:DAYLIGHT
TZOFFSETFROM:-0800
TZOFFSETTO:-0700
TZNAME:PDT
DTSTART:20260308T100000
END:DAYLIGHT
BEGIN:STANDARD
TZOFFSETFROM:-0700
TZOFFSETTO:-0800
TZNAME:PST
DTSTART:20261101T090000
END:STANDARD
BEGIN:DAYLIGHT
TZOFFSETFROM:-0800
TZOFFSETTO:-0700
TZNAME:PDT
DTSTART:20270314T100000
END:DAYLIGHT
BEGIN:STANDARD
TZOFFSETFROM:-0700
TZOFFSETTO:-0800
TZNAME:PST
DTSTART:20271107T090000
END:STANDARD
END:VTIMEZONE
BEGIN:VEVENT
DTSTART;TZID=America/Los_Angeles:20260505T100000
DTEND;TZID=America/Los_Angeles:20260505T110000
DTSTAMP:20260423T184619
CREATED:20260326T072809Z
LAST-MODIFIED:20260326T072809Z
UID:10000686-1777975200-1777978800@www.allsaintscarmel.org
SUMMARY:Outreach
DESCRIPTION:We look forward to having you join us on the first Tuesday of every month for Outreach in the All Saints’ Library.
URL:https://www.allsaintscarmel.org/calendar/outreach/2026-05-05/
LOCATION:All Saints’ Library\, Ninth & Dolores Ave.\, Carmel-by-the-Sea\, CA\, 93921
END:VEVENT
BEGIN:VEVENT
DTSTART;TZID=America/Los_Angeles:20260507T173000
DTEND;TZID=America/Los_Angeles:20260507T193000
DTSTAMP:20260423T184619
CREATED:20250818T203942Z
LAST-MODIFIED:20250818T203942Z
UID:10000115-1778175000-1778182200@www.allsaintscarmel.org
SUMMARY:Centering Prayer
DESCRIPTION:Centering Prayer\, a form of meditative prayer called the “prayer of the heart”\, is rooted in the teachings of Jesus and of the Desert Fathers and Mothers of the early church. Through the practice of Centering Prayer we learn how to surrender to love\, to abide in divine love\, and to enjoy the numerous fruits of the practice: appreciation of silence and solitude\, less susceptibility to stress\, deeper reverence for the divine in and through nature\, willingness and commitment to a life of reconciliation and peace\, and longing for and realization of our full union with God\, with humanity\, and with all life forms on our planet. The practice of Centering Prayer encourages us to cultivate an open mind\, heart\, and will as we seek spiritual transformation in Christ.
URL:https://www.allsaintscarmel.org/calendar/centering-prayer/2026-05-07/
LOCATION:All Saints’ Church\, 9th Ave & Dolores St\, Carmel-by-the-Sea\, CA\, 93921\, United States
ATTACH;FMTTYPE=image/jpeg:https://www.allsaintscarmel.org/wp-content/uploads/2025/08/IMG_5726.jpg
END:VEVENT
BEGIN:VEVENT
DTSTART;TZID=America/Los_Angeles:20260511T163000
DTEND;TZID=America/Los_Angeles:20260511T180000
DTSTAMP:20260423T184619
CREATED:20260326T073817Z
LAST-MODIFIED:20260326T074858Z
UID:10000748-1778517000-1778522400@www.allsaintscarmel.org
SUMMARY:I-HELP Men
DESCRIPTION:Seccombe Hall\, Ninth & Lincoln Ave. entrance\, Carmel-by-the-Sea\, CA\, United States\, 93921 \n“For I was hungry and you gave me food\, I was thirsty and you gave me something to drink….” Matthew 25:35 Join our volunteers in cooking and serving a delicious hot meal\, then dine and converse with the men who are enrolled in the Interfaith Homeless Emergency Lodging Program (I-HELP). This evening the men will be welcomed\, fed\, and housed in our church facility. Our relationship with them is priceless. \n \n“I-HELP is the only emergency shelter open every night in the Monterey area without a waiting list for men and women: a hot meal\, a safe place and a caring community.” \n 
URL:https://www.allsaintscarmel.org/calendar/i-help-men-12/2026-05-11/
LOCATION:All Saints’ Seccombe Hall\, 9th and Dolores\, Carmel\, CA\, 93923\, United States
END:VEVENT
BEGIN:VEVENT
DTSTART;TZID=America/Los_Angeles:20260512T180000
DTEND;TZID=America/Los_Angeles:20260512T193000
DTSTAMP:20260423T184619
CREATED:20260326T074501Z
LAST-MODIFIED:20260417T223751Z
UID:10000763-1778608800-1778614200@www.allsaintscarmel.org
SUMMARY:Book Group
DESCRIPTION:Anxious People by Fredrik Backman. Led by Sarah. A book bag selection. Ten copies will be available at April’s meeting.  \nOur May book is a poignant comedy about a failed bank robber who accidentally takes a group of quirky strangers hostage during an apartment open house\, only to vanish when police storm the scene. It is a heartwarming story about empathy\, human connection\, and modern anxieties.” \nAn instant #1 New York Times bestseller\, the new novel from the author of A Man Called Ove is a “quirky\, big-hearted novel….Wry\, wise\, and often laugh-out-loud funny\, it’s a wholly original story that delivers pure pleasure” (People). \nSalad is provided. Feel free to bring an addition to the salad or a snack for others to enjoy.
URL:https://www.allsaintscarmel.org/calendar/book-group-2/
LOCATION:All Saints’ Library\, Ninth & Dolores Ave.\, Carmel-by-the-Sea\, CA\, 93921
ATTACH;FMTTYPE=image/jpeg:https://www.allsaintscarmel.org/wp-content/uploads/2026/04/FBackman.jpg
END:VEVENT
BEGIN:VEVENT
DTSTART;TZID=America/Los_Angeles:20260514T173000
DTEND;TZID=America/Los_Angeles:20260514T193000
DTSTAMP:20260423T184619
CREATED:20250818T203942Z
LAST-MODIFIED:20250818T203942Z
UID:10000116-1778779800-1778787000@www.allsaintscarmel.org
SUMMARY:Centering Prayer
DESCRIPTION:Centering Prayer\, a form of meditative prayer called the “prayer of the heart”\, is rooted in the teachings of Jesus and of the Desert Fathers and Mothers of the early church. Through the practice of Centering Prayer we learn how to surrender to love\, to abide in divine love\, and to enjoy the numerous fruits of the practice: appreciation of silence and solitude\, less susceptibility to stress\, deeper reverence for the divine in and through nature\, willingness and commitment to a life of reconciliation and peace\, and longing for and realization of our full union with God\, with humanity\, and with all life forms on our planet. The practice of Centering Prayer encourages us to cultivate an open mind\, heart\, and will as we seek spiritual transformation in Christ.
URL:https://www.allsaintscarmel.org/calendar/centering-prayer/2026-05-14/
LOCATION:All Saints’ Church\, 9th Ave & Dolores St\, Carmel-by-the-Sea\, CA\, 93921\, United States
ATTACH;FMTTYPE=image/jpeg:https://www.allsaintscarmel.org/wp-content/uploads/2025/08/IMG_5726.jpg
END:VEVENT
BEGIN:VEVENT
DTSTART;TZID=America/Los_Angeles:20260521T173000
DTEND;TZID=America/Los_Angeles:20260521T193000
DTSTAMP:20260423T184619
CREATED:20250818T203942Z
LAST-MODIFIED:20250818T203942Z
UID:10000117-1779384600-1779391800@www.allsaintscarmel.org
SUMMARY:Centering Prayer
DESCRIPTION:Centering Prayer\, a form of meditative prayer called the “prayer of the heart”\, is rooted in the teachings of Jesus and of the Desert Fathers and Mothers of the early church. Through the practice of Centering Prayer we learn how to surrender to love\, to abide in divine love\, and to enjoy the numerous fruits of the practice: appreciation of silence and solitude\, less susceptibility to stress\, deeper reverence for the divine in and through nature\, willingness and commitment to a life of reconciliation and peace\, and longing for and realization of our full union with God\, with humanity\, and with all life forms on our planet. The practice of Centering Prayer encourages us to cultivate an open mind\, heart\, and will as we seek spiritual transformation in Christ.
URL:https://www.allsaintscarmel.org/calendar/centering-prayer/2026-05-21/
LOCATION:All Saints’ Church\, 9th Ave & Dolores St\, Carmel-by-the-Sea\, CA\, 93921\, United States
ATTACH;FMTTYPE=image/jpeg:https://www.allsaintscarmel.org/wp-content/uploads/2025/08/IMG_5726.jpg
END:VEVENT
BEGIN:VEVENT
DTSTART;TZID=America/Los_Angeles:20260523T100000
DTEND;TZID=America/Los_Angeles:20260523T113000
DTSTAMP:20260423T184619
CREATED:20260409T234103Z
LAST-MODIFIED:20260409T234103Z
UID:10000771-1779530400-1779535800@www.allsaintscarmel.org
SUMMARY:Food For the Soul - Interfaith Devotional
DESCRIPTION:This month’s theme is THE INNER LANDSCAPE. Relax\, reflect\, and nourish your soul  through readings\, music\, and imagery in a tranquil environment with meditations from philosophers\, poets\, and spiritual leaders from all over the world. Feel free to bring an additional reading\, chant\, song\, etc. to share if you wish. Food for the Soul is a monthly event\, held the fourth Saturday of each month. The theme for next month will be “THE LIGHT WITHIN.”  \nEveryone is welcome!   \nMunchies and coffee provided.
URL:https://www.allsaintscarmel.org/calendar/food-for-the-soul-interfaith-devotional-3/
LOCATION:All Saints’ Grant Hall\, Dolores and 9th\, Carmel-by-the-Sea\, CA\, 93921\, United States
END:VEVENT
BEGIN:VEVENT
DTSTART;TZID=America/Los_Angeles:20260528T173000
DTEND;TZID=America/Los_Angeles:20260528T193000
DTSTAMP:20260423T184619
CREATED:20250818T203942Z
LAST-MODIFIED:20250818T203942Z
UID:10000118-1779989400-1779996600@www.allsaintscarmel.org
SUMMARY:Centering Prayer
DESCRIPTION:Centering Prayer\, a form of meditative prayer called the “prayer of the heart”\, is rooted in the teachings of Jesus and of the Desert Fathers and Mothers of the early church. Through the practice of Centering Prayer we learn how to surrender to love\, to abide in divine love\, and to enjoy the numerous fruits of the practice: appreciation of silence and solitude\, less susceptibility to stress\, deeper reverence for the divine in and through nature\, willingness and commitment to a life of reconciliation and peace\, and longing for and realization of our full union with God\, with humanity\, and with all life forms on our planet. The practice of Centering Prayer encourages us to cultivate an open mind\, heart\, and will as we seek spiritual transformation in Christ.
URL:https://www.allsaintscarmel.org/calendar/centering-prayer/2026-05-28/
LOCATION:All Saints’ Church\, 9th Ave & Dolores St\, Carmel-by-the-Sea\, CA\, 93921\, United States
ATTACH;FMTTYPE=image/jpeg:https://www.allsaintscarmel.org/wp-content/uploads/2025/08/IMG_5726.jpg
END:VEVENT
END:VCALENDAR