BEGIN:VCALENDAR
VERSION:2.0
PRODID:-//All Saints&#039; Episcopal Church Carmel-by-the-Sea, California - ECPv6.15.20//NONSGML v1.0//EN
CALSCALE:GREGORIAN
METHOD:PUBLISH
X-ORIGINAL-URL:https://www.allsaintscarmel.org
X-WR-CALDESC:Events for All Saints&#039; Episcopal Church Carmel-by-the-Sea, California
REFRESH-INTERVAL;VALUE=DURATION:PT1H
X-Robots-Tag:noindex
X-PUBLISHED-TTL:PT1H
BEGIN:VTIMEZONE
TZID:America/Los_Angeles
BEGIN:DAYLIGHT
TZOFFSETFROM:-0800
TZOFFSETTO:-0700
TZNAME:PDT
DTSTART:20250309T100000
END:DAYLIGHT
BEGIN:STANDARD
TZOFFSETFROM:-0700
TZOFFSETTO:-0800
TZNAME:PST
DTSTART:20251102T090000
END:STANDARD
BEGIN:DAYLIGHT
TZOFFSETFROM:-0800
TZOFFSETTO:-0700
TZNAME:PDT
DTSTART:20260308T100000
END:DAYLIGHT
BEGIN:STANDARD
TZOFFSETFROM:-0700
TZOFFSETTO:-0800
TZNAME:PST
DTSTART:20261101T090000
END:STANDARD
BEGIN:DAYLIGHT
TZOFFSETFROM:-0800
TZOFFSETTO:-0700
TZNAME:PDT
DTSTART:20270314T100000
END:DAYLIGHT
BEGIN:STANDARD
TZOFFSETFROM:-0700
TZOFFSETTO:-0800
TZNAME:PST
DTSTART:20271107T090000
END:STANDARD
END:VTIMEZONE
BEGIN:VEVENT
DTSTART;TZID=America/Los_Angeles:20260602T100000
DTEND;TZID=America/Los_Angeles:20260602T110000
DTSTAMP:20260423T211411
CREATED:20260326T072809Z
LAST-MODIFIED:20260326T072809Z
UID:10000687-1780394400-1780398000@www.allsaintscarmel.org
SUMMARY:Outreach
DESCRIPTION:We look forward to having you join us on the first Tuesday of every month for Outreach in the All Saints’ Library.
URL:https://www.allsaintscarmel.org/calendar/outreach/2026-06-02/
LOCATION:All Saints’ Library\, Ninth & Dolores Ave.\, Carmel-by-the-Sea\, CA\, 93921
END:VEVENT
BEGIN:VEVENT
DTSTART;TZID=America/Los_Angeles:20260604T173000
DTEND;TZID=America/Los_Angeles:20260604T193000
DTSTAMP:20260423T211411
CREATED:20250818T203942Z
LAST-MODIFIED:20250818T203942Z
UID:10000119-1780594200-1780601400@www.allsaintscarmel.org
SUMMARY:Centering Prayer
DESCRIPTION:Centering Prayer\, a form of meditative prayer called the “prayer of the heart”\, is rooted in the teachings of Jesus and of the Desert Fathers and Mothers of the early church. Through the practice of Centering Prayer we learn how to surrender to love\, to abide in divine love\, and to enjoy the numerous fruits of the practice: appreciation of silence and solitude\, less susceptibility to stress\, deeper reverence for the divine in and through nature\, willingness and commitment to a life of reconciliation and peace\, and longing for and realization of our full union with God\, with humanity\, and with all life forms on our planet. The practice of Centering Prayer encourages us to cultivate an open mind\, heart\, and will as we seek spiritual transformation in Christ.
URL:https://www.allsaintscarmel.org/calendar/centering-prayer/2026-06-04/
LOCATION:All Saints’ Church\, 9th Ave & Dolores St\, Carmel-by-the-Sea\, CA\, 93921\, United States
ATTACH;FMTTYPE=image/jpeg:https://www.allsaintscarmel.org/wp-content/uploads/2025/08/IMG_5726.jpg
END:VEVENT
BEGIN:VEVENT
DTSTART;TZID=America/Los_Angeles:20260608T163000
DTEND;TZID=America/Los_Angeles:20260608T180000
DTSTAMP:20260423T211411
CREATED:20260326T073817Z
LAST-MODIFIED:20260326T074858Z
UID:10000749-1780936200-1780941600@www.allsaintscarmel.org
SUMMARY:I-HELP Men
DESCRIPTION:Seccombe Hall\, Ninth & Lincoln Ave. entrance\, Carmel-by-the-Sea\, CA\, United States\, 93921 \n“For I was hungry and you gave me food\, I was thirsty and you gave me something to drink….” Matthew 25:35 Join our volunteers in cooking and serving a delicious hot meal\, then dine and converse with the men who are enrolled in the Interfaith Homeless Emergency Lodging Program (I-HELP). This evening the men will be welcomed\, fed\, and housed in our church facility. Our relationship with them is priceless. \n \n“I-HELP is the only emergency shelter open every night in the Monterey area without a waiting list for men and women: a hot meal\, a safe place and a caring community.” \n 
URL:https://www.allsaintscarmel.org/calendar/i-help-men-12/2026-06-08/
LOCATION:All Saints’ Seccombe Hall\, 9th and Dolores\, Carmel\, CA\, 93923\, United States
END:VEVENT
BEGIN:VEVENT
DTSTART;TZID=America/Los_Angeles:20260609T180000
DTEND;TZID=America/Los_Angeles:20260609T193000
DTSTAMP:20260423T211411
CREATED:20260326T074630Z
LAST-MODIFIED:20260417T224702Z
UID:10000764-1781028000-1781033400@www.allsaintscarmel.org
SUMMARY:Book Group
DESCRIPTION:Grit: The Power of Passion and Perseverance by Angela Duckworth. Led by Michelle \nAll Saints’ Library Ninth & Dolores Ave.\, Carmel-by-the-Sea\, CA \nSonja Lyubomirsky\, Professor\, University of California\, Riverside and author of The How of Happiness\, “This book will change your life. Fascinating\, rigorous\, and practical\, Grit is destined to be a classic in the literature of success.”  \nSalad is provided. Feel free to bring an addition to the salad or a snack for others to enjoy.
URL:https://www.allsaintscarmel.org/calendar/book-group-3/
LOCATION:All Saints’ Library\, Ninth & Dolores Ave.\, Carmel-by-the-Sea\, CA\, 93921
ATTACH;FMTTYPE=image/jpeg:https://www.allsaintscarmel.org/wp-content/uploads/2026/04/GritCover.jpg
END:VEVENT
BEGIN:VEVENT
DTSTART;TZID=America/Los_Angeles:20260611T173000
DTEND;TZID=America/Los_Angeles:20260611T193000
DTSTAMP:20260423T211411
CREATED:20250818T203942Z
LAST-MODIFIED:20250818T203942Z
UID:10000120-1781199000-1781206200@www.allsaintscarmel.org
SUMMARY:Centering Prayer
DESCRIPTION:Centering Prayer\, a form of meditative prayer called the “prayer of the heart”\, is rooted in the teachings of Jesus and of the Desert Fathers and Mothers of the early church. Through the practice of Centering Prayer we learn how to surrender to love\, to abide in divine love\, and to enjoy the numerous fruits of the practice: appreciation of silence and solitude\, less susceptibility to stress\, deeper reverence for the divine in and through nature\, willingness and commitment to a life of reconciliation and peace\, and longing for and realization of our full union with God\, with humanity\, and with all life forms on our planet. The practice of Centering Prayer encourages us to cultivate an open mind\, heart\, and will as we seek spiritual transformation in Christ.
URL:https://www.allsaintscarmel.org/calendar/centering-prayer/2026-06-11/
LOCATION:All Saints’ Church\, 9th Ave & Dolores St\, Carmel-by-the-Sea\, CA\, 93921\, United States
ATTACH;FMTTYPE=image/jpeg:https://www.allsaintscarmel.org/wp-content/uploads/2025/08/IMG_5726.jpg
END:VEVENT
BEGIN:VEVENT
DTSTART;TZID=America/Los_Angeles:20260618T173000
DTEND;TZID=America/Los_Angeles:20260618T193000
DTSTAMP:20260423T211411
CREATED:20250818T203942Z
LAST-MODIFIED:20250818T203942Z
UID:10000121-1781803800-1781811000@www.allsaintscarmel.org
SUMMARY:Centering Prayer
DESCRIPTION:Centering Prayer\, a form of meditative prayer called the “prayer of the heart”\, is rooted in the teachings of Jesus and of the Desert Fathers and Mothers of the early church. Through the practice of Centering Prayer we learn how to surrender to love\, to abide in divine love\, and to enjoy the numerous fruits of the practice: appreciation of silence and solitude\, less susceptibility to stress\, deeper reverence for the divine in and through nature\, willingness and commitment to a life of reconciliation and peace\, and longing for and realization of our full union with God\, with humanity\, and with all life forms on our planet. The practice of Centering Prayer encourages us to cultivate an open mind\, heart\, and will as we seek spiritual transformation in Christ.
URL:https://www.allsaintscarmel.org/calendar/centering-prayer/2026-06-18/
LOCATION:All Saints’ Church\, 9th Ave & Dolores St\, Carmel-by-the-Sea\, CA\, 93921\, United States
ATTACH;FMTTYPE=image/jpeg:https://www.allsaintscarmel.org/wp-content/uploads/2025/08/IMG_5726.jpg
END:VEVENT
BEGIN:VEVENT
DTSTART;TZID=America/Los_Angeles:20260625T173000
DTEND;TZID=America/Los_Angeles:20260625T193000
DTSTAMP:20260423T211411
CREATED:20250818T203942Z
LAST-MODIFIED:20250818T203942Z
UID:10000122-1782408600-1782415800@www.allsaintscarmel.org
SUMMARY:Centering Prayer
DESCRIPTION:Centering Prayer\, a form of meditative prayer called the “prayer of the heart”\, is rooted in the teachings of Jesus and of the Desert Fathers and Mothers of the early church. Through the practice of Centering Prayer we learn how to surrender to love\, to abide in divine love\, and to enjoy the numerous fruits of the practice: appreciation of silence and solitude\, less susceptibility to stress\, deeper reverence for the divine in and through nature\, willingness and commitment to a life of reconciliation and peace\, and longing for and realization of our full union with God\, with humanity\, and with all life forms on our planet. The practice of Centering Prayer encourages us to cultivate an open mind\, heart\, and will as we seek spiritual transformation in Christ.
URL:https://www.allsaintscarmel.org/calendar/centering-prayer/2026-06-25/
LOCATION:All Saints’ Church\, 9th Ave & Dolores St\, Carmel-by-the-Sea\, CA\, 93921\, United States
ATTACH;FMTTYPE=image/jpeg:https://www.allsaintscarmel.org/wp-content/uploads/2025/08/IMG_5726.jpg
END:VEVENT
BEGIN:VEVENT
DTSTART;TZID=America/Los_Angeles:20260627T100000
DTEND;TZID=America/Los_Angeles:20260627T113000
DTSTAMP:20260423T211411
CREATED:20260421T011528Z
LAST-MODIFIED:20260421T011528Z
UID:10000782-1782554400-1782559800@www.allsaintscarmel.org
SUMMARY:Food for the Soul - Interfaith Devotional
DESCRIPTION:This month’s theme is THE LIGHT WITHIN.  Relax\, reflect\, and nourish your soul  through readings\, music\, and imagery in a tranquil environment with meditations from philosophers\, poets\, and spiritual leaders from all over the world. Feel free to bring an additional reading\, chant\, song\, etc. to share if you wish. Food for the Soul is a monthly event\, held the fourth Saturday of each month. The theme for next month will be “THE MOUNTAINS OF LIFE.”  \nEveryone is welcome. \nMunchies and coffee served. 
URL:https://www.allsaintscarmel.org/calendar/food-for-the-soul-interfaith-devotional-4/
LOCATION:All Saints’ Grant Hall\, 9th and Dolores\, Carmel-by-the-Sea\, CA\, 93921\, United States
END:VEVENT
END:VCALENDAR