BEGIN:VCALENDAR
VERSION:2.0
PRODID:-//All Saints&#039; Episcopal Church Carmel-by-the-Sea, California - ECPv6.15.20//NONSGML v1.0//EN
CALSCALE:GREGORIAN
METHOD:PUBLISH
X-WR-CALNAME:All Saints&#039; Episcopal Church Carmel-by-the-Sea, California
X-ORIGINAL-URL:https://www.allsaintscarmel.org
X-WR-CALDESC:Events for All Saints&#039; Episcopal Church Carmel-by-the-Sea, California
REFRESH-INTERVAL;VALUE=DURATION:PT1H
X-Robots-Tag:noindex
X-PUBLISHED-TTL:PT1H
BEGIN:VTIMEZONE
TZID:America/Los_Angeles
BEGIN:DAYLIGHT
TZOFFSETFROM:-0800
TZOFFSETTO:-0700
TZNAME:PDT
DTSTART:20240310T100000
END:DAYLIGHT
BEGIN:STANDARD
TZOFFSETFROM:-0700
TZOFFSETTO:-0800
TZNAME:PST
DTSTART:20241103T090000
END:STANDARD
BEGIN:DAYLIGHT
TZOFFSETFROM:-0800
TZOFFSETTO:-0700
TZNAME:PDT
DTSTART:20250309T100000
END:DAYLIGHT
BEGIN:STANDARD
TZOFFSETFROM:-0700
TZOFFSETTO:-0800
TZNAME:PST
DTSTART:20251102T090000
END:STANDARD
BEGIN:DAYLIGHT
TZOFFSETFROM:-0800
TZOFFSETTO:-0700
TZNAME:PDT
DTSTART:20260308T100000
END:DAYLIGHT
BEGIN:STANDARD
TZOFFSETFROM:-0700
TZOFFSETTO:-0800
TZNAME:PST
DTSTART:20261101T090000
END:STANDARD
END:VTIMEZONE
BEGIN:VEVENT
DTSTART;TZID=America/Los_Angeles:20250726T100000
DTEND;TZID=America/Los_Angeles:20250726T113000
DTSTAMP:20260422T151252
CREATED:20250226T174325Z
LAST-MODIFIED:20250305T012901Z
UID:10000004-1753524000-1753529400@www.allsaintscarmel.org
SUMMARY:Food for the Soul - No Beginning\, No End
DESCRIPTION:This month’s theme is No Beginning\, No End. \nRelax\, reflect\, and nourish your soul  through readings\, music\, and imagery in a tranquil environment with meditations from philosophers\, poets\, and spiritual leaders from all over the world. Feel free to bring an additional reading\, chant\, song\, etc. to share if you wish. \nFood for the Soul is a monthly event\, held the fourth Saturday of each month. The theme for next month will be “No Man is an Island.” Everyone is welcome!
URL:https://www.allsaintscarmel.org/calendar/food-for-the-soul-5/
LOCATION:All Saints’ Grant Hall\, 9th and Dolores\, Carmel-by-the-Sea\, CA\, 93921\, United States
END:VEVENT
END:VCALENDAR