BEGIN:VCALENDAR
VERSION:2.0
PRODID:-//All Saints&#039; Episcopal Church Carmel-by-the-Sea, California - ECPv6.15.20//NONSGML v1.0//EN
CALSCALE:GREGORIAN
METHOD:PUBLISH
X-WR-CALNAME:All Saints&#039; Episcopal Church Carmel-by-the-Sea, California
X-ORIGINAL-URL:https://www.allsaintscarmel.org
X-WR-CALDESC:Events for All Saints&#039; Episcopal Church Carmel-by-the-Sea, California
REFRESH-INTERVAL;VALUE=DURATION:PT1H
X-Robots-Tag:noindex
X-PUBLISHED-TTL:PT1H
BEGIN:VTIMEZONE
TZID:America/Los_Angeles
BEGIN:DAYLIGHT
TZOFFSETFROM:-0800
TZOFFSETTO:-0700
TZNAME:PDT
DTSTART:20240310T100000
END:DAYLIGHT
BEGIN:STANDARD
TZOFFSETFROM:-0700
TZOFFSETTO:-0800
TZNAME:PST
DTSTART:20241103T090000
END:STANDARD
BEGIN:DAYLIGHT
TZOFFSETFROM:-0800
TZOFFSETTO:-0700
TZNAME:PDT
DTSTART:20250309T100000
END:DAYLIGHT
BEGIN:STANDARD
TZOFFSETFROM:-0700
TZOFFSETTO:-0800
TZNAME:PST
DTSTART:20251102T090000
END:STANDARD
BEGIN:DAYLIGHT
TZOFFSETFROM:-0800
TZOFFSETTO:-0700
TZNAME:PDT
DTSTART:20260308T100000
END:DAYLIGHT
BEGIN:STANDARD
TZOFFSETFROM:-0700
TZOFFSETTO:-0800
TZNAME:PST
DTSTART:20261101T090000
END:STANDARD
BEGIN:DAYLIGHT
TZOFFSETFROM:-0800
TZOFFSETTO:-0700
TZNAME:PDT
DTSTART:20270314T100000
END:DAYLIGHT
BEGIN:STANDARD
TZOFFSETFROM:-0700
TZOFFSETTO:-0800
TZNAME:PST
DTSTART:20271107T090000
END:STANDARD
END:VTIMEZONE
BEGIN:VEVENT
DTSTART;TZID=America/Los_Angeles:20260328T100000
DTEND;TZID=America/Los_Angeles:20260328T113000
DTSTAMP:20260421T035846
CREATED:20260326T075317Z
LAST-MODIFIED:20260326T080134Z
UID:10000768-1774692000-1774697400@www.allsaintscarmel.org
SUMMARY:Food for the Soul - Interfaith Devotional
DESCRIPTION:  \nThis month’s theme is Infinite Worlds Relax\, reflect\, and nourish your soul  through readings\, music\, and imagery in a tranquil environment with meditations from philosophers\, poets\, and spiritual leaders from all over the world. Feel free to bring an additional reading\, chant\, song\, etc. to share if you wish. Food for the Soul is a monthly event\, held the fourth Saturday of each month. The theme for next month will be “THE DANCE OF LIFE.”  \nEveryone is welcome!  \nMunchies and coffee provided.
URL:https://www.allsaintscarmel.org/calendar/food-for-the-soul-interfaith-devotional/
LOCATION:All Saints’ Grant Hall\, 9th and Dolores\, Carmel-by-the-Sea\, CA\, 93921\, United States
ATTACH;FMTTYPE=image/png:https://www.allsaintscarmel.org/wp-content/uploads/2026/03/FFTS_2026_WEB-600-x-450-px.png
END:VEVENT
BEGIN:VEVENT
DTSTART;TZID=America/Los_Angeles:20250726T100000
DTEND;TZID=America/Los_Angeles:20250726T113000
DTSTAMP:20260421T035846
CREATED:20250226T174325Z
LAST-MODIFIED:20250305T012901Z
UID:10000004-1753524000-1753529400@www.allsaintscarmel.org
SUMMARY:Food for the Soul - No Beginning\, No End
DESCRIPTION:This month’s theme is No Beginning\, No End. \nRelax\, reflect\, and nourish your soul  through readings\, music\, and imagery in a tranquil environment with meditations from philosophers\, poets\, and spiritual leaders from all over the world. Feel free to bring an additional reading\, chant\, song\, etc. to share if you wish. \nFood for the Soul is a monthly event\, held the fourth Saturday of each month. The theme for next month will be “No Man is an Island.” Everyone is welcome!
URL:https://www.allsaintscarmel.org/calendar/food-for-the-soul-5/
LOCATION:All Saints’ Grant Hall\, 9th and Dolores\, Carmel-by-the-Sea\, CA\, 93921\, United States
END:VEVENT
BEGIN:VEVENT
DTSTART;TZID=America/Los_Angeles:20250628T100000
DTEND;TZID=America/Los_Angeles:20250628T113000
DTSTAMP:20260421T035846
CREATED:20250226T174026Z
LAST-MODIFIED:20250305T013011Z
UID:10000006-1751104800-1751110200@www.allsaintscarmel.org
SUMMARY:Food for the Soul - Infinite Worlds
DESCRIPTION:This month’s theme is Infinite Worlds \nRelax\, reflect\, and nourish your soul  through readings\, music\, and imagery in a tranquil environment with meditations from philosophers\, poets\, and spiritual leaders from all over the world. Feel free to bring an additional reading\, chant\, song\, etc. to share if you wish. \nFood for the Soul is a monthly event\, held the fourth Saturday of each month. The theme for next month will be “No Beginning\, No End.” Everyone is welcome.
URL:https://www.allsaintscarmel.org/calendar/food-for-the-soul-4/
LOCATION:All Saints’ Grant Hall\, 9th and Dolores\, Carmel-by-the-Sea\, CA\, 93921\, United States
END:VEVENT
BEGIN:VEVENT
DTSTART;TZID=America/Los_Angeles:20250426T100000
DTEND;TZID=America/Los_Angeles:20250426T113000
DTSTAMP:20260421T035846
CREATED:20250226T093851Z
LAST-MODIFIED:20250305T013424Z
UID:10000002-1745661600-1745667000@www.allsaintscarmel.org
SUMMARY:Food for the Soul - Footprints in the Sand
DESCRIPTION:This month’s theme is Footprints in the Sand. \nRelax\, reflect\, and nourish your soul  through readings\, music\, and imagery in a tranquil environment with meditations from philosophers\, poets\, and spiritual leaders from all over the world. Feel free to bring an additional reading\, chant\, song\, etc. to share if you wish. \nFood for the Soul is a monthly event\, held the fourth Saturday of each month. The theme for next month will be “In the Garden” Everyone is welcome.
URL:https://www.allsaintscarmel.org/calendar/food-for-the-soul-2/
LOCATION:All Saints’ Grant Hall\, 9th and Dolores\, Carmel-by-the-Sea\, CA\, 93921\, United States
ATTACH;FMTTYPE=image/png:https://www.allsaintscarmel.org/wp-content/uploads/2025/03/FFTS_April-26-2025-Facebook-Post.png
END:VEVENT
BEGIN:VEVENT
DTSTART;TZID=America/Los_Angeles:20250322T100000
DTEND;TZID=America/Los_Angeles:20250322T113000
DTSTAMP:20260421T035847
CREATED:20250226T173636Z
LAST-MODIFIED:20250305T014422Z
UID:10000005-1742637600-1742643000@www.allsaintscarmel.org
SUMMARY:Food for the Soul - Infinite Worlds
DESCRIPTION:This month’s theme is Infinite Worlds \nRelax\, reflect\, and nourish your soul  through readings\, music\, and imagery in a tranquil environment with meditations from philosophers\, poets\, and spiritual leaders from all over the world. Feel free to bring an additional reading\, chant\, song\, etc. to share if you wish. \nFood for the Soul is a monthly event\, held the fourth Saturday of each month. The theme for next month will be “Footprints in the Sand.” Everyone is welcome!
URL:https://www.allsaintscarmel.org/calendar/food-for-the-soul-3/
LOCATION:All Saints’ Grant Hall\, 9th and Dolores\, Carmel-by-the-Sea\, CA\, 93921\, United States
ATTACH;FMTTYPE=image/png:https://www.allsaintscarmel.org/wp-content/uploads/2025/03/FFTS_March-22-Facebook-Post.png
END:VEVENT
END:VCALENDAR