BEGIN:VCALENDAR
VERSION:2.0
PRODID:-//All Saints&#039; Episcopal Church Carmel-by-the-Sea, California - ECPv6.15.20//NONSGML v1.0//EN
CALSCALE:GREGORIAN
METHOD:PUBLISH
X-WR-CALNAME:All Saints&#039; Episcopal Church Carmel-by-the-Sea, California
X-ORIGINAL-URL:https://www.allsaintscarmel.org
X-WR-CALDESC:Events for All Saints&#039; Episcopal Church Carmel-by-the-Sea, California
REFRESH-INTERVAL;VALUE=DURATION:PT1H
X-Robots-Tag:noindex
X-PUBLISHED-TTL:PT1H
BEGIN:VTIMEZONE
TZID:America/Los_Angeles
BEGIN:DAYLIGHT
TZOFFSETFROM:-0800
TZOFFSETTO:-0700
TZNAME:PDT
DTSTART:20240310T100000
END:DAYLIGHT
BEGIN:STANDARD
TZOFFSETFROM:-0700
TZOFFSETTO:-0800
TZNAME:PST
DTSTART:20241103T090000
END:STANDARD
BEGIN:DAYLIGHT
TZOFFSETFROM:-0800
TZOFFSETTO:-0700
TZNAME:PDT
DTSTART:20250309T100000
END:DAYLIGHT
BEGIN:STANDARD
TZOFFSETFROM:-0700
TZOFFSETTO:-0800
TZNAME:PST
DTSTART:20251102T090000
END:STANDARD
BEGIN:DAYLIGHT
TZOFFSETFROM:-0800
TZOFFSETTO:-0700
TZNAME:PDT
DTSTART:20260308T100000
END:DAYLIGHT
BEGIN:STANDARD
TZOFFSETFROM:-0700
TZOFFSETTO:-0800
TZNAME:PST
DTSTART:20261101T090000
END:STANDARD
BEGIN:DAYLIGHT
TZOFFSETFROM:-0800
TZOFFSETTO:-0700
TZNAME:PDT
DTSTART:20270314T100000
END:DAYLIGHT
BEGIN:STANDARD
TZOFFSETFROM:-0700
TZOFFSETTO:-0800
TZNAME:PST
DTSTART:20271107T090000
END:STANDARD
END:VTIMEZONE
BEGIN:VEVENT
DTSTART;TZID=America/Los_Angeles:20260415T103000
DTEND;TZID=America/Los_Angeles:20260415T120000
DTSTAMP:20260421T033906
CREATED:20260326T075007Z
LAST-MODIFIED:20260326T075007Z
UID:10000766-1776249000-1776254400@www.allsaintscarmel.org
SUMMARY:Bible Study
DESCRIPTION:
URL:https://www.allsaintscarmel.org/calendar/bible-study-6/
LOCATION:All Saints’ Library\, Ninth & Dolores Ave.\, Carmel-by-the-Sea\, CA\, 93921
END:VEVENT
BEGIN:VEVENT
DTSTART;TZID=America/Los_Angeles:20260414T183000
DTEND;TZID=America/Los_Angeles:20260414T193000
DTSTAMP:20260421T033906
CREATED:20260326T074326Z
LAST-MODIFIED:20260409T233516Z
UID:10000762-1776191400-1776195000@www.allsaintscarmel.org
SUMMARY:Book Group
DESCRIPTION:Christine Falls by Benjamin Black (aka John  Banville). Led by Gwynn. \nQuirke is a surly pathologist living in 1950s Dublin. One night\, after having a few drinks at a party\, he returns to the morgue to find his brother-in-law tampering with the records on a young woman’s corpse. The next morning\, when his hangover has worn off\, Quirke reluctantly begins looking into the woman’s history. He discovers a plot that spans two continents\, implicates the Catholic Church\, and may just involve members of his own family. He is warned–first subtly\, then with violence–to lay off\, but Quirke is a stubborn man. The first novel in the Quirke series brings all the vividness and psychological insight of John Banville’s writing to the dark\, menacing atmosphere of a first-class thriller. \nSalad is provided. Feel free to bring an addition to the salad or a snack for others to enjoy.
URL:https://www.allsaintscarmel.org/calendar/book-group/
LOCATION:All Saints’ Library\, Ninth & Dolores Ave.\, Carmel-by-the-Sea\, CA\, 93921
END:VEVENT
BEGIN:VEVENT
DTSTART;TZID=America/Los_Angeles:20260407T100000
DTEND;TZID=America/Los_Angeles:20260407T110000
DTSTAMP:20260421T033906
CREATED:20260326T072809Z
LAST-MODIFIED:20260326T072809Z
UID:10000685-1775556000-1775559600@www.allsaintscarmel.org
SUMMARY:Outreach
DESCRIPTION:We look forward to having you join us on the first Tuesday of every month for Outreach in the All Saints’ Library.
URL:https://www.allsaintscarmel.org/calendar/outreach/2026-04-07/
LOCATION:All Saints’ Library\, Ninth & Dolores Ave.\, Carmel-by-the-Sea\, CA\, 93921
END:VEVENT
BEGIN:VEVENT
DTSTART;TZID=America/Los_Angeles:20260401T103000
DTEND;TZID=America/Los_Angeles:20260401T120000
DTSTAMP:20260421T033906
CREATED:20260326T074742Z
LAST-MODIFIED:20260326T074742Z
UID:10000765-1775039400-1775044800@www.allsaintscarmel.org
SUMMARY:Bible Study
DESCRIPTION:During the Lenten Season we will continue to read\, study and ponder Paul’s First Letter to the Corinthians. The mystery of Christ’s Cross and Resurrection and the Gift of the Holy Spirit are at the heart of Pauline theology and this is no less true of this letter than the others. This makes it appropriate reading for the seasons of Lent and Easter(or any season). All the baptized are incorporated into Christ and so daily we die with Him\, we rise in Him to new life\, life in the Holy Spirit of God. 
URL:https://www.allsaintscarmel.org/calendar/bible-study-5/
LOCATION:All Saints’ Library\, Ninth & Dolores Ave.\, Carmel-by-the-Sea\, CA\, 93921
END:VEVENT
BEGIN:VEVENT
DTSTART;TZID=America/Los_Angeles:20251209T180000
DTEND;TZID=America/Los_Angeles:20251209T193000
DTSTAMP:20260421T033906
CREATED:20250227T072107Z
LAST-MODIFIED:20250301T043213Z
UID:10000026-1765303200-1765308600@www.allsaintscarmel.org
SUMMARY:Book Club
DESCRIPTION:  \nThe December book will be announced soon. \nJoin us for our discussion as we share analysis\, perspectives\, and conversation\, including the characters\, themes\, and writing style of the book. \nSalad is provided. Feel free to bring an addition to the salad or a snack for others to enjoy.
URL:https://www.allsaintscarmel.org/calendar/book-club-10/
LOCATION:All Saints’ Library\, Ninth & Dolores Ave.\, Carmel-by-the-Sea\, CA\, 93921
ORGANIZER;CN="Sarah Nielsen":MAILTO:1truelibra@gmail.com
END:VEVENT
BEGIN:VEVENT
DTSTART;TZID=America/Los_Angeles:20251202T100000
DTEND;TZID=America/Los_Angeles:20251202T110000
DTSTAMP:20260421T033906
CREATED:20250226T175940Z
LAST-MODIFIED:20250305T192620Z
UID:10000014-1764669600-1764673200@www.allsaintscarmel.org
SUMMARY:Outreach Committee
DESCRIPTION:
URL:https://www.allsaintscarmel.org/calendar/outreach-committee-meeting-10/
LOCATION:All Saints’ Library\, Ninth & Dolores Ave.\, Carmel-by-the-Sea\, CA\, 93921
ORGANIZER;CN="Sherry & Julie":MAILTO:info@allsaintscarmel.org
END:VEVENT
BEGIN:VEVENT
DTSTART;TZID=America/Los_Angeles:20251111T180000
DTEND;TZID=America/Los_Angeles:20251111T193000
DTSTAMP:20260421T033906
CREATED:20250227T071841Z
LAST-MODIFIED:20250301T043944Z
UID:10000025-1762884000-1762889400@www.allsaintscarmel.org
SUMMARY:Book Club
DESCRIPTION:The November book will be announced soon. \nJoin us for our discussion as we share analysis\, perspectives\, and conversation\, including the characters\, themes\, and writing style of the book. \nSalad is provided. Feel free to bring an addition to the salad or a snack for others to enjoy.
URL:https://www.allsaintscarmel.org/calendar/book-club-9/
LOCATION:All Saints’ Library\, Ninth & Dolores Ave.\, Carmel-by-the-Sea\, CA\, 93921
ORGANIZER;CN="Sarah Nielsen":MAILTO:1truelibra@gmail.com
END:VEVENT
BEGIN:VEVENT
DTSTART;TZID=America/Los_Angeles:20251104T100000
DTEND;TZID=America/Los_Angeles:20251104T110000
DTSTAMP:20260421T033906
CREATED:20250226T175902Z
LAST-MODIFIED:20250305T012143Z
UID:10000015-1762250400-1762254000@www.allsaintscarmel.org
SUMMARY:Outreach
DESCRIPTION:
URL:https://www.allsaintscarmel.org/calendar/outreach-committee-meeting-9/
LOCATION:All Saints’ Library\, Ninth & Dolores Ave.\, Carmel-by-the-Sea\, CA\, 93921
ORGANIZER;CN="Sherry & Julie":MAILTO:info@allsaintscarmel.org
END:VEVENT
BEGIN:VEVENT
DTSTART;TZID=America/Los_Angeles:20251014T180000
DTEND;TZID=America/Los_Angeles:20251014T193000
DTSTAMP:20260421T033906
CREATED:20250227T071019Z
LAST-MODIFIED:20250301T045100Z
UID:10000024-1760464800-1760470200@www.allsaintscarmel.org
SUMMARY:Book Club
DESCRIPTION:The October book will be announced soon. \nJoin us for our discussion as we share analysis\, perspectives\, and conversation\, including the characters\, themes\, and writing style of the book. \nSalad is provided. Feel free to bring an addition to the salad or a snack for others to enjoy.
URL:https://www.allsaintscarmel.org/calendar/book-club-8/
LOCATION:All Saints’ Library\, Ninth & Dolores Ave.\, Carmel-by-the-Sea\, CA\, 93921
ORGANIZER;CN="Sarah Nielsen":MAILTO:1truelibra@gmail.com
END:VEVENT
BEGIN:VEVENT
DTSTART;TZID=America/Los_Angeles:20251007T100000
DTEND;TZID=America/Los_Angeles:20251007T110000
DTSTAMP:20260421T033906
CREATED:20250226T175833Z
LAST-MODIFIED:20250305T012057Z
UID:10000013-1759831200-1759834800@www.allsaintscarmel.org
SUMMARY:Outreach
DESCRIPTION:
URL:https://www.allsaintscarmel.org/calendar/outreach-committee-meeting-8/
LOCATION:All Saints’ Library\, Ninth & Dolores Ave.\, Carmel-by-the-Sea\, CA\, 93921
ORGANIZER;CN="Sherry & Julie":MAILTO:info@allsaintscarmel.org
END:VEVENT
BEGIN:VEVENT
DTSTART;TZID=America/Los_Angeles:20250909T180000
DTEND;TZID=America/Los_Angeles:20250909T193000
DTSTAMP:20260421T033906
CREATED:20250227T070840Z
LAST-MODIFIED:20250301T045416Z
UID:10000023-1757440800-1757446200@www.allsaintscarmel.org
SUMMARY:Book Club
DESCRIPTION:The September book will be announced soon. \nJoin us for our discussion as we share analysis\, perspectives\, and conversation\, including the characters\, themes\, and writing style of the book. \nSalad is provided. Feel free to bring an addition to the salad or a snack for others to enjoy.
URL:https://www.allsaintscarmel.org/calendar/book-club-6/
LOCATION:All Saints’ Library\, Ninth & Dolores Ave.\, Carmel-by-the-Sea\, CA\, 93921
ORGANIZER;CN="Sarah Nielsen":MAILTO:1truelibra@gmail.com
END:VEVENT
BEGIN:VEVENT
DTSTART;TZID=America/Los_Angeles:20250902T100000
DTEND;TZID=America/Los_Angeles:20250902T110000
DTSTAMP:20260421T033906
CREATED:20250226T175734Z
LAST-MODIFIED:20250305T012503Z
UID:10000012-1756807200-1756810800@www.allsaintscarmel.org
SUMMARY:Outreach
DESCRIPTION:
URL:https://www.allsaintscarmel.org/calendar/outreach-committee-meeting-7/
LOCATION:All Saints’ Library\, Ninth & Dolores Ave.\, Carmel-by-the-Sea\, CA\, 93921
ORGANIZER;CN="Sherry & Julie":MAILTO:info@allsaintscarmel.org
END:VEVENT
BEGIN:VEVENT
DTSTART;TZID=America/Los_Angeles:20250812T180000
DTEND;TZID=America/Los_Angeles:20250812T193000
DTSTAMP:20260421T033906
CREATED:20250227T070646Z
LAST-MODIFIED:20250301T045541Z
UID:10000022-1755021600-1755027000@www.allsaintscarmel.org
SUMMARY:Book Club
DESCRIPTION:The August book will be announced soon. \nJoin us for our discussion as we share analysis\, perspectives\, and conversation\, including the characters\, themes\, and writing style of the book. \nSalad is provided. Feel free to bring an addition to the salad or a snack for others to enjoy.
URL:https://www.allsaintscarmel.org/calendar/book-club-5/
LOCATION:All Saints’ Library\, Ninth & Dolores Ave.\, Carmel-by-the-Sea\, CA\, 93921
ORGANIZER;CN="Sarah Nielsen":MAILTO:1truelibra@gmail.com
END:VEVENT
BEGIN:VEVENT
DTSTART;TZID=America/Los_Angeles:20250805T100000
DTEND;TZID=America/Los_Angeles:20250805T110000
DTSTAMP:20260421T033906
CREATED:20250226T175656Z
LAST-MODIFIED:20250305T012648Z
UID:10000011-1754388000-1754391600@www.allsaintscarmel.org
SUMMARY:Outreach
DESCRIPTION:
URL:https://www.allsaintscarmel.org/calendar/outreach-committee-meeting-6/
LOCATION:All Saints’ Library\, Ninth & Dolores Ave.\, Carmel-by-the-Sea\, CA\, 93921
ORGANIZER;CN="Sherry & Julie":MAILTO:info@allsaintscarmel.org
END:VEVENT
BEGIN:VEVENT
DTSTART;TZID=America/Los_Angeles:20250708T180000
DTEND;TZID=America/Los_Angeles:20250708T193000
DTSTAMP:20260421T033906
CREATED:20250227T070435Z
LAST-MODIFIED:20250301T050154Z
UID:10000021-1751997600-1752003000@www.allsaintscarmel.org
SUMMARY:Book Club
DESCRIPTION:The July book is to be announced soon. \nJoin us for our discussion as we share analysis\, perspectives\, and conversation\, including the characters\, themes\, and writing style of the book. \nSalad is provided. Feel free to bring an addition to the salad or a snack for others to enjoy.
URL:https://www.allsaintscarmel.org/calendar/book-club-4/
LOCATION:All Saints’ Library\, Ninth & Dolores Ave.\, Carmel-by-the-Sea\, CA\, 93921
ORGANIZER;CN="Sarah Nielsen":MAILTO:1truelibra@gmail.com
END:VEVENT
BEGIN:VEVENT
DTSTART;TZID=America/Los_Angeles:20250701T100000
DTEND;TZID=America/Los_Angeles:20250701T110000
DTSTAMP:20260421T033906
CREATED:20250226T175626Z
LAST-MODIFIED:20250305T012757Z
UID:10000010-1751364000-1751367600@www.allsaintscarmel.org
SUMMARY:Outreach
DESCRIPTION:
URL:https://www.allsaintscarmel.org/calendar/outreach-committee-meeting-5/
LOCATION:All Saints’ Library\, Ninth & Dolores Ave.\, Carmel-by-the-Sea\, CA\, 93921
ORGANIZER;CN="Sherry & Julie":MAILTO:info@allsaintscarmel.org
END:VEVENT
BEGIN:VEVENT
DTSTART;TZID=America/Los_Angeles:20250603T100000
DTEND;TZID=America/Los_Angeles:20250603T110000
DTSTAMP:20260421T033906
CREATED:20250226T175452Z
LAST-MODIFIED:20250305T013108Z
UID:10000009-1748944800-1748948400@www.allsaintscarmel.org
SUMMARY:Outreach
DESCRIPTION:
URL:https://www.allsaintscarmel.org/calendar/outreach-committee-meeting-4/
LOCATION:All Saints’ Library\, Ninth & Dolores Ave.\, Carmel-by-the-Sea\, CA\, 93921
ORGANIZER;CN="Sherry & Julie":MAILTO:info@allsaintscarmel.org
END:VEVENT
BEGIN:VEVENT
DTSTART;TZID=America/Los_Angeles:20250513T180000
DTEND;TZID=America/Los_Angeles:20250513T193000
DTSTAMP:20260421T033906
CREATED:20250227T051526Z
LAST-MODIFIED:20250301T051206Z
UID:10000027-1747159200-1747164600@www.allsaintscarmel.org
SUMMARY:Book Club
DESCRIPTION:The May book will be announced soon. \nJoin us for our discussion as we share analysis\, perspectives\, and conversation\, including the characters\, themes\, and writing style of the book. \nSalad is provided. Feel free to bring an addition to the salad or a snack for others to enjoy.
URL:https://www.allsaintscarmel.org/calendar/book-club-2/
LOCATION:All Saints’ Library\, Ninth & Dolores Ave.\, Carmel-by-the-Sea\, CA\, 93921
ORGANIZER;CN="Sarah Nielsen":MAILTO:1truelibra@gmail.com
END:VEVENT
BEGIN:VEVENT
DTSTART;TZID=America/Los_Angeles:20250506T100000
DTEND;TZID=America/Los_Angeles:20250506T110000
DTSTAMP:20260421T033906
CREATED:20250226T175216Z
LAST-MODIFIED:20250305T013329Z
UID:10000008-1746525600-1746529200@www.allsaintscarmel.org
SUMMARY:Outreach
DESCRIPTION:
URL:https://www.allsaintscarmel.org/calendar/outreach-committee-meeting-3/
LOCATION:All Saints’ Library\, Ninth & Dolores Ave.\, Carmel-by-the-Sea\, CA\, 93921
ORGANIZER;CN="Sherry & Julie":MAILTO:info@allsaintscarmel.org
END:VEVENT
BEGIN:VEVENT
DTSTART;TZID=America/Los_Angeles:20250408T180000
DTEND;TZID=America/Los_Angeles:20250408T193000
DTSTAMP:20260421T033906
CREATED:20250227T051953Z
LAST-MODIFIED:20250301T052220Z
UID:10000028-1744135200-1744140600@www.allsaintscarmel.org
SUMMARY:Book Club
DESCRIPTION:The April book is to be announced. \nJoin us for our discussion as we share analysis\, perspectives\, and conversation\, including the characters\, themes\, and writing style of the book. \nSalad is provided. Feel free to bring an addition to the salad or a snack for others to enjoy.
URL:https://www.allsaintscarmel.org/calendar/book-club-3/
LOCATION:All Saints’ Library\, Ninth & Dolores Ave.\, Carmel-by-the-Sea\, CA\, 93921
ORGANIZER;CN="Sarah Nielsen":MAILTO:1truelibra@gmail.com
END:VEVENT
BEGIN:VEVENT
DTSTART;TZID=America/Los_Angeles:20250401T100000
DTEND;TZID=America/Los_Angeles:20250401T110000
DTSTAMP:20260421T033906
CREATED:20250226T175056Z
LAST-MODIFIED:20250305T013924Z
UID:10000007-1743501600-1743505200@www.allsaintscarmel.org
SUMMARY:Outreach
DESCRIPTION:
URL:https://www.allsaintscarmel.org/calendar/outreach-committee-meeting-2/
LOCATION:All Saints’ Library\, Ninth & Dolores Ave.\, Carmel-by-the-Sea\, CA\, 93921
ORGANIZER;CN="Sherry & Julie":MAILTO:info@allsaintscarmel.org
END:VEVENT
BEGIN:VEVENT
DTSTART;TZID=America/Los_Angeles:20250311T180000
DTEND;TZID=America/Los_Angeles:20250311T193000
DTSTAMP:20260421T033906
CREATED:20250226T180600Z
LAST-MODIFIED:20250303T085411Z
UID:10000016-1741716000-1741721400@www.allsaintscarmel.org
SUMMARY:Book Club
DESCRIPTION:The March book is Honor by Thirty Umrigar \nJoin us for our discussion as we share analysis\, perspectives\, and conversation\, including the characters\, themes\, and writing style of the book “Honor.” \nSalad is provided. Feel free to bring an addition to the salad or a snack for others to enjoy.
URL:https://www.allsaintscarmel.org/calendar/book-club/
LOCATION:All Saints’ Library\, Ninth & Dolores Ave.\, Carmel-by-the-Sea\, CA\, 93921
ATTACH;FMTTYPE=image/png:https://www.allsaintscarmel.org/wp-content/uploads/2025/03/HONOR.png
ORGANIZER;CN="Sarah Nielsen":MAILTO:1truelibra@gmail.com
END:VEVENT
BEGIN:VEVENT
DTSTART;TZID=America/Los_Angeles:20250304T100000
DTEND;TZID=America/Los_Angeles:20250304T110000
DTSTAMP:20260421T033906
CREATED:20250226T095542Z
LAST-MODIFIED:20250227T014928Z
UID:10000003-1741082400-1741086000@www.allsaintscarmel.org
SUMMARY:Outreach Committee meeting
DESCRIPTION:
URL:https://www.allsaintscarmel.org/calendar/outreach-committee-meeting/
LOCATION:All Saints’ Library\, Ninth & Dolores Ave.\, Carmel-by-the-Sea\, CA\, 93921
ORGANIZER;CN="Sherry & Julie":MAILTO:info@allsaintscarmel.org
END:VEVENT
END:VCALENDAR