BEGIN:VCALENDAR
VERSION:2.0
PRODID:-//All Saints&#039; Episcopal Church Carmel-by-the-Sea, California - ECPv6.15.20//NONSGML v1.0//EN
CALSCALE:GREGORIAN
METHOD:PUBLISH
X-WR-CALNAME:All Saints&#039; Episcopal Church Carmel-by-the-Sea, California
X-ORIGINAL-URL:https://www.allsaintscarmel.org
X-WR-CALDESC:Events for All Saints&#039; Episcopal Church Carmel-by-the-Sea, California
REFRESH-INTERVAL;VALUE=DURATION:PT1H
X-Robots-Tag:noindex
X-PUBLISHED-TTL:PT1H
BEGIN:VTIMEZONE
TZID:America/Los_Angeles
BEGIN:DAYLIGHT
TZOFFSETFROM:-0800
TZOFFSETTO:-0700
TZNAME:PDT
DTSTART:20250309T100000
END:DAYLIGHT
BEGIN:STANDARD
TZOFFSETFROM:-0700
TZOFFSETTO:-0800
TZNAME:PST
DTSTART:20251102T090000
END:STANDARD
BEGIN:DAYLIGHT
TZOFFSETFROM:-0800
TZOFFSETTO:-0700
TZNAME:PDT
DTSTART:20260308T100000
END:DAYLIGHT
BEGIN:STANDARD
TZOFFSETFROM:-0700
TZOFFSETTO:-0800
TZNAME:PST
DTSTART:20261101T090000
END:STANDARD
BEGIN:DAYLIGHT
TZOFFSETFROM:-0800
TZOFFSETTO:-0700
TZNAME:PDT
DTSTART:20270314T100000
END:DAYLIGHT
BEGIN:STANDARD
TZOFFSETFROM:-0700
TZOFFSETTO:-0800
TZNAME:PST
DTSTART:20271107T090000
END:STANDARD
BEGIN:DAYLIGHT
TZOFFSETFROM:-0800
TZOFFSETTO:-0700
TZNAME:PDT
DTSTART:20280312T100000
END:DAYLIGHT
BEGIN:STANDARD
TZOFFSETFROM:-0700
TZOFFSETTO:-0800
TZNAME:PST
DTSTART:20281105T090000
END:STANDARD
BEGIN:DAYLIGHT
TZOFFSETFROM:-0800
TZOFFSETTO:-0700
TZNAME:PDT
DTSTART:20290311T100000
END:DAYLIGHT
BEGIN:STANDARD
TZOFFSETFROM:-0700
TZOFFSETTO:-0800
TZNAME:PST
DTSTART:20291104T090000
END:STANDARD
END:VTIMEZONE
BEGIN:VEVENT
DTSTART;TZID=America/Los_Angeles:20260505T100000
DTEND;TZID=America/Los_Angeles:20260505T110000
DTSTAMP:20260421T022753
CREATED:20260326T072809Z
LAST-MODIFIED:20260326T072809Z
UID:10000686-1777975200-1777978800@www.allsaintscarmel.org
SUMMARY:Outreach
DESCRIPTION:We look forward to having you join us on the first Tuesday of every month for Outreach in the All Saints’ Library.
URL:https://www.allsaintscarmel.org/calendar/outreach/2026-05-05/
LOCATION:All Saints’ Library\, Ninth & Dolores Ave.\, Carmel-by-the-Sea\, CA\, 93921
END:VEVENT
BEGIN:VEVENT
DTSTART;TZID=America/Los_Angeles:20260512T180000
DTEND;TZID=America/Los_Angeles:20260512T193000
DTSTAMP:20260421T022753
CREATED:20260326T074501Z
LAST-MODIFIED:20260417T223751Z
UID:10000763-1778608800-1778614200@www.allsaintscarmel.org
SUMMARY:Book Group
DESCRIPTION:Anxious People by Fredrik Backman. Led by Sarah. A book bag selection. Ten copies will be available at April’s meeting.  \nOur May book is a poignant comedy about a failed bank robber who accidentally takes a group of quirky strangers hostage during an apartment open house\, only to vanish when police storm the scene. It is a heartwarming story about empathy\, human connection\, and modern anxieties.” \nAn instant #1 New York Times bestseller\, the new novel from the author of A Man Called Ove is a “quirky\, big-hearted novel….Wry\, wise\, and often laugh-out-loud funny\, it’s a wholly original story that delivers pure pleasure” (People). \nSalad is provided. Feel free to bring an addition to the salad or a snack for others to enjoy.
URL:https://www.allsaintscarmel.org/calendar/book-group-2/
LOCATION:All Saints’ Library\, Ninth & Dolores Ave.\, Carmel-by-the-Sea\, CA\, 93921
ATTACH;FMTTYPE=image/jpeg:https://www.allsaintscarmel.org/wp-content/uploads/2026/04/FBackman.jpg
END:VEVENT
BEGIN:VEVENT
DTSTART;TZID=America/Los_Angeles:20260602T100000
DTEND;TZID=America/Los_Angeles:20260602T110000
DTSTAMP:20260421T022753
CREATED:20260326T072809Z
LAST-MODIFIED:20260326T072809Z
UID:10000687-1780394400-1780398000@www.allsaintscarmel.org
SUMMARY:Outreach
DESCRIPTION:We look forward to having you join us on the first Tuesday of every month for Outreach in the All Saints’ Library.
URL:https://www.allsaintscarmel.org/calendar/outreach/2026-06-02/
LOCATION:All Saints’ Library\, Ninth & Dolores Ave.\, Carmel-by-the-Sea\, CA\, 93921
END:VEVENT
BEGIN:VEVENT
DTSTART;TZID=America/Los_Angeles:20260609T180000
DTEND;TZID=America/Los_Angeles:20260609T193000
DTSTAMP:20260421T022753
CREATED:20260326T074630Z
LAST-MODIFIED:20260417T224702Z
UID:10000764-1781028000-1781033400@www.allsaintscarmel.org
SUMMARY:Book Group
DESCRIPTION:Grit: The Power of Passion and Perseverance by Angela Duckworth. Led by Michelle \nAll Saints’ Library Ninth & Dolores Ave.\, Carmel-by-the-Sea\, CA \nSonja Lyubomirsky\, Professor\, University of California\, Riverside and author of The How of Happiness\, “This book will change your life. Fascinating\, rigorous\, and practical\, Grit is destined to be a classic in the literature of success.”  \nSalad is provided. Feel free to bring an addition to the salad or a snack for others to enjoy.
URL:https://www.allsaintscarmel.org/calendar/book-group-3/
LOCATION:All Saints’ Library\, Ninth & Dolores Ave.\, Carmel-by-the-Sea\, CA\, 93921
ATTACH;FMTTYPE=image/jpeg:https://www.allsaintscarmel.org/wp-content/uploads/2026/04/GritCover.jpg
END:VEVENT
BEGIN:VEVENT
DTSTART;TZID=America/Los_Angeles:20260707T100000
DTEND;TZID=America/Los_Angeles:20260707T110000
DTSTAMP:20260421T022753
CREATED:20260326T072809Z
LAST-MODIFIED:20260326T072809Z
UID:10000688-1783418400-1783422000@www.allsaintscarmel.org
SUMMARY:Outreach
DESCRIPTION:We look forward to having you join us on the first Tuesday of every month for Outreach in the All Saints’ Library.
URL:https://www.allsaintscarmel.org/calendar/outreach/2026-07-07/
LOCATION:All Saints’ Library\, Ninth & Dolores Ave.\, Carmel-by-the-Sea\, CA\, 93921
END:VEVENT
BEGIN:VEVENT
DTSTART;TZID=America/Los_Angeles:20260714T180000
DTEND;TZID=America/Los_Angeles:20260714T193000
DTSTAMP:20260421T022753
CREATED:20260417T230124Z
LAST-MODIFIED:20260417T230124Z
UID:10000772-1784052000-1784057400@www.allsaintscarmel.org
SUMMARY:Book Group
DESCRIPTION:The Frozen River by Ariel Lawhon. Led by Beth. A bookbag selection. Ten copies will be available at June’s meeting. \nNEW YORK TIMES BESTSELLER • GMA BOOK CLUB PICK • AN NPR BOOK OF THE YEAR • From the New York Times bestselling author of I Was Anastasia and Code Name Hélène comes a gripping historical mystery inspired by the life and diary of Martha Ballard\, a renowned 18th-century midwife who defied the legal system and wrote herself into American history. \n“Fans of Outlander’s Claire Fraser will enjoy Lawhon’s Martha\, who is brave and outspoken when it comes to protecting the innocent. . . impressive.”—The Washington Post \nSalad is provided. Feel free to bring an addition to the salad or a snack for others to enjoy.
URL:https://www.allsaintscarmel.org/calendar/book-group-4/
LOCATION:All Saints’ Library\, Ninth & Dolores Ave.\, Carmel-by-the-Sea\, CA\, 93921
ATTACH;FMTTYPE=image/jpeg:https://www.allsaintscarmel.org/wp-content/uploads/2026/04/FrozenCompressed.jpg
END:VEVENT
BEGIN:VEVENT
DTSTART;TZID=America/Los_Angeles:20260804T100000
DTEND;TZID=America/Los_Angeles:20260804T110000
DTSTAMP:20260421T022753
CREATED:20260326T072809Z
LAST-MODIFIED:20260326T072809Z
UID:10000689-1785837600-1785841200@www.allsaintscarmel.org
SUMMARY:Outreach
DESCRIPTION:We look forward to having you join us on the first Tuesday of every month for Outreach in the All Saints’ Library.
URL:https://www.allsaintscarmel.org/calendar/outreach/2026-08-04/
LOCATION:All Saints’ Library\, Ninth & Dolores Ave.\, Carmel-by-the-Sea\, CA\, 93921
END:VEVENT
BEGIN:VEVENT
DTSTART;TZID=America/Los_Angeles:20260901T100000
DTEND;TZID=America/Los_Angeles:20260901T110000
DTSTAMP:20260421T022753
CREATED:20260326T072809Z
LAST-MODIFIED:20260326T072809Z
UID:10000690-1788256800-1788260400@www.allsaintscarmel.org
SUMMARY:Outreach
DESCRIPTION:We look forward to having you join us on the first Tuesday of every month for Outreach in the All Saints’ Library.
URL:https://www.allsaintscarmel.org/calendar/outreach/2026-09-01/
LOCATION:All Saints’ Library\, Ninth & Dolores Ave.\, Carmel-by-the-Sea\, CA\, 93921
END:VEVENT
BEGIN:VEVENT
DTSTART;TZID=America/Los_Angeles:20261006T100000
DTEND;TZID=America/Los_Angeles:20261006T110000
DTSTAMP:20260421T022753
CREATED:20260326T072809Z
LAST-MODIFIED:20260326T072809Z
UID:10000691-1791280800-1791284400@www.allsaintscarmel.org
SUMMARY:Outreach
DESCRIPTION:We look forward to having you join us on the first Tuesday of every month for Outreach in the All Saints’ Library.
URL:https://www.allsaintscarmel.org/calendar/outreach/2026-10-06/
LOCATION:All Saints’ Library\, Ninth & Dolores Ave.\, Carmel-by-the-Sea\, CA\, 93921
END:VEVENT
BEGIN:VEVENT
DTSTART;TZID=America/Los_Angeles:20261103T100000
DTEND;TZID=America/Los_Angeles:20261103T110000
DTSTAMP:20260421T022753
CREATED:20260326T072809Z
LAST-MODIFIED:20260326T072809Z
UID:10000692-1793700000-1793703600@www.allsaintscarmel.org
SUMMARY:Outreach
DESCRIPTION:We look forward to having you join us on the first Tuesday of every month for Outreach in the All Saints’ Library.
URL:https://www.allsaintscarmel.org/calendar/outreach/2026-11-03/
LOCATION:All Saints’ Library\, Ninth & Dolores Ave.\, Carmel-by-the-Sea\, CA\, 93921
END:VEVENT
BEGIN:VEVENT
DTSTART;TZID=America/Los_Angeles:20261201T100000
DTEND;TZID=America/Los_Angeles:20261201T110000
DTSTAMP:20260421T022753
CREATED:20260326T072809Z
LAST-MODIFIED:20260326T072809Z
UID:10000693-1796119200-1796122800@www.allsaintscarmel.org
SUMMARY:Outreach
DESCRIPTION:We look forward to having you join us on the first Tuesday of every month for Outreach in the All Saints’ Library.
URL:https://www.allsaintscarmel.org/calendar/outreach/2026-12-01/
LOCATION:All Saints’ Library\, Ninth & Dolores Ave.\, Carmel-by-the-Sea\, CA\, 93921
END:VEVENT
BEGIN:VEVENT
DTSTART;TZID=America/Los_Angeles:20270105T100000
DTEND;TZID=America/Los_Angeles:20270105T110000
DTSTAMP:20260421T022753
CREATED:20260326T072809Z
LAST-MODIFIED:20260326T072809Z
UID:10000694-1799143200-1799146800@www.allsaintscarmel.org
SUMMARY:Outreach
DESCRIPTION:We look forward to having you join us on the first Tuesday of every month for Outreach in the All Saints’ Library.
URL:https://www.allsaintscarmel.org/calendar/outreach/2027-01-05/
LOCATION:All Saints’ Library\, Ninth & Dolores Ave.\, Carmel-by-the-Sea\, CA\, 93921
END:VEVENT
BEGIN:VEVENT
DTSTART;TZID=America/Los_Angeles:20270202T100000
DTEND;TZID=America/Los_Angeles:20270202T110000
DTSTAMP:20260421T022753
CREATED:20260326T072809Z
LAST-MODIFIED:20260326T072809Z
UID:10000695-1801562400-1801566000@www.allsaintscarmel.org
SUMMARY:Outreach
DESCRIPTION:We look forward to having you join us on the first Tuesday of every month for Outreach in the All Saints’ Library.
URL:https://www.allsaintscarmel.org/calendar/outreach/2027-02-02/
LOCATION:All Saints’ Library\, Ninth & Dolores Ave.\, Carmel-by-the-Sea\, CA\, 93921
END:VEVENT
BEGIN:VEVENT
DTSTART;TZID=America/Los_Angeles:20270302T100000
DTEND;TZID=America/Los_Angeles:20270302T110000
DTSTAMP:20260421T022753
CREATED:20260326T072809Z
LAST-MODIFIED:20260326T072809Z
UID:10000696-1803981600-1803985200@www.allsaintscarmel.org
SUMMARY:Outreach
DESCRIPTION:We look forward to having you join us on the first Tuesday of every month for Outreach in the All Saints’ Library.
URL:https://www.allsaintscarmel.org/calendar/outreach/2027-03-02/
LOCATION:All Saints’ Library\, Ninth & Dolores Ave.\, Carmel-by-the-Sea\, CA\, 93921
END:VEVENT
BEGIN:VEVENT
DTSTART;TZID=America/Los_Angeles:20270406T100000
DTEND;TZID=America/Los_Angeles:20270406T110000
DTSTAMP:20260421T022753
CREATED:20260326T072809Z
LAST-MODIFIED:20260326T072809Z
UID:10000697-1807005600-1807009200@www.allsaintscarmel.org
SUMMARY:Outreach
DESCRIPTION:We look forward to having you join us on the first Tuesday of every month for Outreach in the All Saints’ Library.
URL:https://www.allsaintscarmel.org/calendar/outreach/2027-04-06/
LOCATION:All Saints’ Library\, Ninth & Dolores Ave.\, Carmel-by-the-Sea\, CA\, 93921
END:VEVENT
BEGIN:VEVENT
DTSTART;TZID=America/Los_Angeles:20270504T100000
DTEND;TZID=America/Los_Angeles:20270504T110000
DTSTAMP:20260421T022753
CREATED:20260326T072809Z
LAST-MODIFIED:20260326T072809Z
UID:10000698-1809424800-1809428400@www.allsaintscarmel.org
SUMMARY:Outreach
DESCRIPTION:We look forward to having you join us on the first Tuesday of every month for Outreach in the All Saints’ Library.
URL:https://www.allsaintscarmel.org/calendar/outreach/2027-05-04/
LOCATION:All Saints’ Library\, Ninth & Dolores Ave.\, Carmel-by-the-Sea\, CA\, 93921
END:VEVENT
BEGIN:VEVENT
DTSTART;TZID=America/Los_Angeles:20270601T100000
DTEND;TZID=America/Los_Angeles:20270601T110000
DTSTAMP:20260421T022753
CREATED:20260326T072809Z
LAST-MODIFIED:20260326T072809Z
UID:10000699-1811844000-1811847600@www.allsaintscarmel.org
SUMMARY:Outreach
DESCRIPTION:We look forward to having you join us on the first Tuesday of every month for Outreach in the All Saints’ Library.
URL:https://www.allsaintscarmel.org/calendar/outreach/2027-06-01/
LOCATION:All Saints’ Library\, Ninth & Dolores Ave.\, Carmel-by-the-Sea\, CA\, 93921
END:VEVENT
BEGIN:VEVENT
DTSTART;TZID=America/Los_Angeles:20270706T100000
DTEND;TZID=America/Los_Angeles:20270706T110000
DTSTAMP:20260421T022753
CREATED:20260326T072809Z
LAST-MODIFIED:20260326T072809Z
UID:10000700-1814868000-1814871600@www.allsaintscarmel.org
SUMMARY:Outreach
DESCRIPTION:We look forward to having you join us on the first Tuesday of every month for Outreach in the All Saints’ Library.
URL:https://www.allsaintscarmel.org/calendar/outreach/2027-07-06/
LOCATION:All Saints’ Library\, Ninth & Dolores Ave.\, Carmel-by-the-Sea\, CA\, 93921
END:VEVENT
BEGIN:VEVENT
DTSTART;TZID=America/Los_Angeles:20270803T100000
DTEND;TZID=America/Los_Angeles:20270803T110000
DTSTAMP:20260421T022753
CREATED:20260326T072809Z
LAST-MODIFIED:20260326T072809Z
UID:10000701-1817287200-1817290800@www.allsaintscarmel.org
SUMMARY:Outreach
DESCRIPTION:We look forward to having you join us on the first Tuesday of every month for Outreach in the All Saints’ Library.
URL:https://www.allsaintscarmel.org/calendar/outreach/2027-08-03/
LOCATION:All Saints’ Library\, Ninth & Dolores Ave.\, Carmel-by-the-Sea\, CA\, 93921
END:VEVENT
BEGIN:VEVENT
DTSTART;TZID=America/Los_Angeles:20270907T100000
DTEND;TZID=America/Los_Angeles:20270907T110000
DTSTAMP:20260421T022753
CREATED:20260326T072809Z
LAST-MODIFIED:20260326T072809Z
UID:10000702-1820311200-1820314800@www.allsaintscarmel.org
SUMMARY:Outreach
DESCRIPTION:We look forward to having you join us on the first Tuesday of every month for Outreach in the All Saints’ Library.
URL:https://www.allsaintscarmel.org/calendar/outreach/2027-09-07/
LOCATION:All Saints’ Library\, Ninth & Dolores Ave.\, Carmel-by-the-Sea\, CA\, 93921
END:VEVENT
BEGIN:VEVENT
DTSTART;TZID=America/Los_Angeles:20271005T100000
DTEND;TZID=America/Los_Angeles:20271005T110000
DTSTAMP:20260421T022753
CREATED:20260326T072809Z
LAST-MODIFIED:20260326T072809Z
UID:10000703-1822730400-1822734000@www.allsaintscarmel.org
SUMMARY:Outreach
DESCRIPTION:We look forward to having you join us on the first Tuesday of every month for Outreach in the All Saints’ Library.
URL:https://www.allsaintscarmel.org/calendar/outreach/2027-10-05/
LOCATION:All Saints’ Library\, Ninth & Dolores Ave.\, Carmel-by-the-Sea\, CA\, 93921
END:VEVENT
BEGIN:VEVENT
DTSTART;TZID=America/Los_Angeles:20271102T100000
DTEND;TZID=America/Los_Angeles:20271102T110000
DTSTAMP:20260421T022753
CREATED:20260326T072809Z
LAST-MODIFIED:20260326T072809Z
UID:10000704-1825149600-1825153200@www.allsaintscarmel.org
SUMMARY:Outreach
DESCRIPTION:We look forward to having you join us on the first Tuesday of every month for Outreach in the All Saints’ Library.
URL:https://www.allsaintscarmel.org/calendar/outreach/2027-11-02/
LOCATION:All Saints’ Library\, Ninth & Dolores Ave.\, Carmel-by-the-Sea\, CA\, 93921
END:VEVENT
BEGIN:VEVENT
DTSTART;TZID=America/Los_Angeles:20271207T100000
DTEND;TZID=America/Los_Angeles:20271207T110000
DTSTAMP:20260421T022753
CREATED:20260326T072809Z
LAST-MODIFIED:20260326T072809Z
UID:10000705-1828173600-1828177200@www.allsaintscarmel.org
SUMMARY:Outreach
DESCRIPTION:We look forward to having you join us on the first Tuesday of every month for Outreach in the All Saints’ Library.
URL:https://www.allsaintscarmel.org/calendar/outreach/2027-12-07/
LOCATION:All Saints’ Library\, Ninth & Dolores Ave.\, Carmel-by-the-Sea\, CA\, 93921
END:VEVENT
BEGIN:VEVENT
DTSTART;TZID=America/Los_Angeles:20280104T100000
DTEND;TZID=America/Los_Angeles:20280104T110000
DTSTAMP:20260421T022753
CREATED:20260326T072809Z
LAST-MODIFIED:20260326T072809Z
UID:10000706-1830592800-1830596400@www.allsaintscarmel.org
SUMMARY:Outreach
DESCRIPTION:We look forward to having you join us on the first Tuesday of every month for Outreach in the All Saints’ Library.
URL:https://www.allsaintscarmel.org/calendar/outreach/2028-01-04/
LOCATION:All Saints’ Library\, Ninth & Dolores Ave.\, Carmel-by-the-Sea\, CA\, 93921
END:VEVENT
BEGIN:VEVENT
DTSTART;TZID=America/Los_Angeles:20280201T100000
DTEND;TZID=America/Los_Angeles:20280201T110000
DTSTAMP:20260421T022754
CREATED:20260326T072809Z
LAST-MODIFIED:20260326T072809Z
UID:10000707-1833012000-1833015600@www.allsaintscarmel.org
SUMMARY:Outreach
DESCRIPTION:We look forward to having you join us on the first Tuesday of every month for Outreach in the All Saints’ Library.
URL:https://www.allsaintscarmel.org/calendar/outreach/2028-02-01/
LOCATION:All Saints’ Library\, Ninth & Dolores Ave.\, Carmel-by-the-Sea\, CA\, 93921
END:VEVENT
BEGIN:VEVENT
DTSTART;TZID=America/Los_Angeles:20280307T100000
DTEND;TZID=America/Los_Angeles:20280307T110000
DTSTAMP:20260421T022754
CREATED:20260326T072809Z
LAST-MODIFIED:20260326T072809Z
UID:10000708-1836036000-1836039600@www.allsaintscarmel.org
SUMMARY:Outreach
DESCRIPTION:We look forward to having you join us on the first Tuesday of every month for Outreach in the All Saints’ Library.
URL:https://www.allsaintscarmel.org/calendar/outreach/2028-03-07/
LOCATION:All Saints’ Library\, Ninth & Dolores Ave.\, Carmel-by-the-Sea\, CA\, 93921
END:VEVENT
BEGIN:VEVENT
DTSTART;TZID=America/Los_Angeles:20280404T100000
DTEND;TZID=America/Los_Angeles:20280404T110000
DTSTAMP:20260421T022754
CREATED:20260326T072809Z
LAST-MODIFIED:20260326T072809Z
UID:10000709-1838455200-1838458800@www.allsaintscarmel.org
SUMMARY:Outreach
DESCRIPTION:We look forward to having you join us on the first Tuesday of every month for Outreach in the All Saints’ Library.
URL:https://www.allsaintscarmel.org/calendar/outreach/2028-04-04/
LOCATION:All Saints’ Library\, Ninth & Dolores Ave.\, Carmel-by-the-Sea\, CA\, 93921
END:VEVENT
BEGIN:VEVENT
DTSTART;TZID=America/Los_Angeles:20280502T100000
DTEND;TZID=America/Los_Angeles:20280502T110000
DTSTAMP:20260421T022754
CREATED:20260326T072809Z
LAST-MODIFIED:20260326T072809Z
UID:10000710-1840874400-1840878000@www.allsaintscarmel.org
SUMMARY:Outreach
DESCRIPTION:We look forward to having you join us on the first Tuesday of every month for Outreach in the All Saints’ Library.
URL:https://www.allsaintscarmel.org/calendar/outreach/2028-05-02/
LOCATION:All Saints’ Library\, Ninth & Dolores Ave.\, Carmel-by-the-Sea\, CA\, 93921
END:VEVENT
BEGIN:VEVENT
DTSTART;TZID=America/Los_Angeles:20280606T100000
DTEND;TZID=America/Los_Angeles:20280606T110000
DTSTAMP:20260421T022754
CREATED:20260326T072809Z
LAST-MODIFIED:20260326T072809Z
UID:10000711-1843898400-1843902000@www.allsaintscarmel.org
SUMMARY:Outreach
DESCRIPTION:We look forward to having you join us on the first Tuesday of every month for Outreach in the All Saints’ Library.
URL:https://www.allsaintscarmel.org/calendar/outreach/2028-06-06/
LOCATION:All Saints’ Library\, Ninth & Dolores Ave.\, Carmel-by-the-Sea\, CA\, 93921
END:VEVENT
BEGIN:VEVENT
DTSTART;TZID=America/Los_Angeles:20280704T100000
DTEND;TZID=America/Los_Angeles:20280704T110000
DTSTAMP:20260421T022754
CREATED:20260326T072809Z
LAST-MODIFIED:20260326T072809Z
UID:10000712-1846317600-1846321200@www.allsaintscarmel.org
SUMMARY:Outreach
DESCRIPTION:We look forward to having you join us on the first Tuesday of every month for Outreach in the All Saints’ Library.
URL:https://www.allsaintscarmel.org/calendar/outreach/2028-07-04/
LOCATION:All Saints’ Library\, Ninth & Dolores Ave.\, Carmel-by-the-Sea\, CA\, 93921
END:VEVENT
END:VCALENDAR