BEGIN:VCALENDAR
VERSION:2.0
PRODID:-//All Saints&#039; Episcopal Church Carmel-by-the-Sea, California - ECPv6.15.20//NONSGML v1.0//EN
CALSCALE:GREGORIAN
METHOD:PUBLISH
X-ORIGINAL-URL:https://www.allsaintscarmel.org
X-WR-CALDESC:Events for All Saints&#039; Episcopal Church Carmel-by-the-Sea, California
REFRESH-INTERVAL;VALUE=DURATION:PT1H
X-Robots-Tag:noindex
X-PUBLISHED-TTL:PT1H
BEGIN:VTIMEZONE
TZID:America/Los_Angeles
BEGIN:DAYLIGHT
TZOFFSETFROM:-0800
TZOFFSETTO:-0700
TZNAME:PDT
DTSTART:20250309T100000
END:DAYLIGHT
BEGIN:STANDARD
TZOFFSETFROM:-0700
TZOFFSETTO:-0800
TZNAME:PST
DTSTART:20251102T090000
END:STANDARD
BEGIN:DAYLIGHT
TZOFFSETFROM:-0800
TZOFFSETTO:-0700
TZNAME:PDT
DTSTART:20260308T100000
END:DAYLIGHT
BEGIN:STANDARD
TZOFFSETFROM:-0700
TZOFFSETTO:-0800
TZNAME:PST
DTSTART:20261101T090000
END:STANDARD
BEGIN:DAYLIGHT
TZOFFSETFROM:-0800
TZOFFSETTO:-0700
TZNAME:PDT
DTSTART:20270314T100000
END:DAYLIGHT
BEGIN:STANDARD
TZOFFSETFROM:-0700
TZOFFSETTO:-0800
TZNAME:PST
DTSTART:20271107T090000
END:STANDARD
BEGIN:DAYLIGHT
TZOFFSETFROM:-0800
TZOFFSETTO:-0700
TZNAME:PDT
DTSTART:20280312T100000
END:DAYLIGHT
BEGIN:STANDARD
TZOFFSETFROM:-0700
TZOFFSETTO:-0800
TZNAME:PST
DTSTART:20281105T090000
END:STANDARD
END:VTIMEZONE
BEGIN:VEVENT
DTSTART;TZID=America/Los_Angeles:20260511T163000
DTEND;TZID=America/Los_Angeles:20260511T180000
DTSTAMP:20260421T081527
CREATED:20260326T073817Z
LAST-MODIFIED:20260326T074858Z
UID:10000748-1778517000-1778522400@www.allsaintscarmel.org
SUMMARY:I-HELP Men
DESCRIPTION:Seccombe Hall\, Ninth & Lincoln Ave. entrance\, Carmel-by-the-Sea\, CA\, United States\, 93921 \n“For I was hungry and you gave me food\, I was thirsty and you gave me something to drink….” Matthew 25:35 Join our volunteers in cooking and serving a delicious hot meal\, then dine and converse with the men who are enrolled in the Interfaith Homeless Emergency Lodging Program (I-HELP). This evening the men will be welcomed\, fed\, and housed in our church facility. Our relationship with them is priceless. \n \n“I-HELP is the only emergency shelter open every night in the Monterey area without a waiting list for men and women: a hot meal\, a safe place and a caring community.” \n 
URL:https://www.allsaintscarmel.org/calendar/i-help-men-12/2026-05-11/
LOCATION:All Saints’ Seccombe Hall\, 9th and Dolores\, Carmel\, CA\, 93923\, United States
END:VEVENT
BEGIN:VEVENT
DTSTART;TZID=America/Los_Angeles:20260608T163000
DTEND;TZID=America/Los_Angeles:20260608T180000
DTSTAMP:20260421T081527
CREATED:20260326T073817Z
LAST-MODIFIED:20260326T074858Z
UID:10000749-1780936200-1780941600@www.allsaintscarmel.org
SUMMARY:I-HELP Men
DESCRIPTION:Seccombe Hall\, Ninth & Lincoln Ave. entrance\, Carmel-by-the-Sea\, CA\, United States\, 93921 \n“For I was hungry and you gave me food\, I was thirsty and you gave me something to drink….” Matthew 25:35 Join our volunteers in cooking and serving a delicious hot meal\, then dine and converse with the men who are enrolled in the Interfaith Homeless Emergency Lodging Program (I-HELP). This evening the men will be welcomed\, fed\, and housed in our church facility. Our relationship with them is priceless. \n \n“I-HELP is the only emergency shelter open every night in the Monterey area without a waiting list for men and women: a hot meal\, a safe place and a caring community.” \n 
URL:https://www.allsaintscarmel.org/calendar/i-help-men-12/2026-06-08/
LOCATION:All Saints’ Seccombe Hall\, 9th and Dolores\, Carmel\, CA\, 93923\, United States
END:VEVENT
BEGIN:VEVENT
DTSTART;TZID=America/Los_Angeles:20260713T163000
DTEND;TZID=America/Los_Angeles:20260713T180000
DTSTAMP:20260421T081527
CREATED:20260326T073817Z
LAST-MODIFIED:20260326T074858Z
UID:10000750-1783960200-1783965600@www.allsaintscarmel.org
SUMMARY:I-HELP Men
DESCRIPTION:Seccombe Hall\, Ninth & Lincoln Ave. entrance\, Carmel-by-the-Sea\, CA\, United States\, 93921 \n“For I was hungry and you gave me food\, I was thirsty and you gave me something to drink….” Matthew 25:35 Join our volunteers in cooking and serving a delicious hot meal\, then dine and converse with the men who are enrolled in the Interfaith Homeless Emergency Lodging Program (I-HELP). This evening the men will be welcomed\, fed\, and housed in our church facility. Our relationship with them is priceless. \n \n“I-HELP is the only emergency shelter open every night in the Monterey area without a waiting list for men and women: a hot meal\, a safe place and a caring community.” \n 
URL:https://www.allsaintscarmel.org/calendar/i-help-men-12/2026-07-13/
LOCATION:All Saints’ Seccombe Hall\, 9th and Dolores\, Carmel\, CA\, 93923\, United States
END:VEVENT
BEGIN:VEVENT
DTSTART;TZID=America/Los_Angeles:20260810T163000
DTEND;TZID=America/Los_Angeles:20260810T180000
DTSTAMP:20260421T081527
CREATED:20260326T073817Z
LAST-MODIFIED:20260326T074858Z
UID:10000751-1786379400-1786384800@www.allsaintscarmel.org
SUMMARY:I-HELP Men
DESCRIPTION:Seccombe Hall\, Ninth & Lincoln Ave. entrance\, Carmel-by-the-Sea\, CA\, United States\, 93921 \n“For I was hungry and you gave me food\, I was thirsty and you gave me something to drink….” Matthew 25:35 Join our volunteers in cooking and serving a delicious hot meal\, then dine and converse with the men who are enrolled in the Interfaith Homeless Emergency Lodging Program (I-HELP). This evening the men will be welcomed\, fed\, and housed in our church facility. Our relationship with them is priceless. \n \n“I-HELP is the only emergency shelter open every night in the Monterey area without a waiting list for men and women: a hot meal\, a safe place and a caring community.” \n 
URL:https://www.allsaintscarmel.org/calendar/i-help-men-12/2026-08-10/
LOCATION:All Saints’ Seccombe Hall\, 9th and Dolores\, Carmel\, CA\, 93923\, United States
END:VEVENT
BEGIN:VEVENT
DTSTART;TZID=America/Los_Angeles:20260914T163000
DTEND;TZID=America/Los_Angeles:20260914T180000
DTSTAMP:20260421T081527
CREATED:20260326T073817Z
LAST-MODIFIED:20260326T074858Z
UID:10000752-1789403400-1789408800@www.allsaintscarmel.org
SUMMARY:I-HELP Men
DESCRIPTION:Seccombe Hall\, Ninth & Lincoln Ave. entrance\, Carmel-by-the-Sea\, CA\, United States\, 93921 \n“For I was hungry and you gave me food\, I was thirsty and you gave me something to drink….” Matthew 25:35 Join our volunteers in cooking and serving a delicious hot meal\, then dine and converse with the men who are enrolled in the Interfaith Homeless Emergency Lodging Program (I-HELP). This evening the men will be welcomed\, fed\, and housed in our church facility. Our relationship with them is priceless. \n \n“I-HELP is the only emergency shelter open every night in the Monterey area without a waiting list for men and women: a hot meal\, a safe place and a caring community.” \n 
URL:https://www.allsaintscarmel.org/calendar/i-help-men-12/2026-09-14/
LOCATION:All Saints’ Seccombe Hall\, 9th and Dolores\, Carmel\, CA\, 93923\, United States
END:VEVENT
BEGIN:VEVENT
DTSTART;TZID=America/Los_Angeles:20261012T163000
DTEND;TZID=America/Los_Angeles:20261012T180000
DTSTAMP:20260421T081527
CREATED:20260326T073817Z
LAST-MODIFIED:20260326T074858Z
UID:10000753-1791822600-1791828000@www.allsaintscarmel.org
SUMMARY:I-HELP Men
DESCRIPTION:Seccombe Hall\, Ninth & Lincoln Ave. entrance\, Carmel-by-the-Sea\, CA\, United States\, 93921 \n“For I was hungry and you gave me food\, I was thirsty and you gave me something to drink….” Matthew 25:35 Join our volunteers in cooking and serving a delicious hot meal\, then dine and converse with the men who are enrolled in the Interfaith Homeless Emergency Lodging Program (I-HELP). This evening the men will be welcomed\, fed\, and housed in our church facility. Our relationship with them is priceless. \n \n“I-HELP is the only emergency shelter open every night in the Monterey area without a waiting list for men and women: a hot meal\, a safe place and a caring community.” \n 
URL:https://www.allsaintscarmel.org/calendar/i-help-men-12/2026-10-12/
LOCATION:All Saints’ Seccombe Hall\, 9th and Dolores\, Carmel\, CA\, 93923\, United States
END:VEVENT
BEGIN:VEVENT
DTSTART;TZID=America/Los_Angeles:20261109T163000
DTEND;TZID=America/Los_Angeles:20261109T180000
DTSTAMP:20260421T081527
CREATED:20260326T073817Z
LAST-MODIFIED:20260326T074858Z
UID:10000754-1794241800-1794247200@www.allsaintscarmel.org
SUMMARY:I-HELP Men
DESCRIPTION:Seccombe Hall\, Ninth & Lincoln Ave. entrance\, Carmel-by-the-Sea\, CA\, United States\, 93921 \n“For I was hungry and you gave me food\, I was thirsty and you gave me something to drink….” Matthew 25:35 Join our volunteers in cooking and serving a delicious hot meal\, then dine and converse with the men who are enrolled in the Interfaith Homeless Emergency Lodging Program (I-HELP). This evening the men will be welcomed\, fed\, and housed in our church facility. Our relationship with them is priceless. \n \n“I-HELP is the only emergency shelter open every night in the Monterey area without a waiting list for men and women: a hot meal\, a safe place and a caring community.” \n 
URL:https://www.allsaintscarmel.org/calendar/i-help-men-12/2026-11-09/
LOCATION:All Saints’ Seccombe Hall\, 9th and Dolores\, Carmel\, CA\, 93923\, United States
END:VEVENT
BEGIN:VEVENT
DTSTART;TZID=America/Los_Angeles:20261214T163000
DTEND;TZID=America/Los_Angeles:20261214T180000
DTSTAMP:20260421T081527
CREATED:20260326T073817Z
LAST-MODIFIED:20260326T074858Z
UID:10000755-1797265800-1797271200@www.allsaintscarmel.org
SUMMARY:I-HELP Men
DESCRIPTION:Seccombe Hall\, Ninth & Lincoln Ave. entrance\, Carmel-by-the-Sea\, CA\, United States\, 93921 \n“For I was hungry and you gave me food\, I was thirsty and you gave me something to drink….” Matthew 25:35 Join our volunteers in cooking and serving a delicious hot meal\, then dine and converse with the men who are enrolled in the Interfaith Homeless Emergency Lodging Program (I-HELP). This evening the men will be welcomed\, fed\, and housed in our church facility. Our relationship with them is priceless. \n \n“I-HELP is the only emergency shelter open every night in the Monterey area without a waiting list for men and women: a hot meal\, a safe place and a caring community.” \n 
URL:https://www.allsaintscarmel.org/calendar/i-help-men-12/2026-12-14/
LOCATION:All Saints’ Seccombe Hall\, 9th and Dolores\, Carmel\, CA\, 93923\, United States
END:VEVENT
BEGIN:VEVENT
DTSTART;TZID=America/Los_Angeles:20270111T163000
DTEND;TZID=America/Los_Angeles:20270111T180000
DTSTAMP:20260421T081527
CREATED:20260326T073817Z
LAST-MODIFIED:20260326T074858Z
UID:10000756-1799685000-1799690400@www.allsaintscarmel.org
SUMMARY:I-HELP Men
DESCRIPTION:Seccombe Hall\, Ninth & Lincoln Ave. entrance\, Carmel-by-the-Sea\, CA\, United States\, 93921 \n“For I was hungry and you gave me food\, I was thirsty and you gave me something to drink….” Matthew 25:35 Join our volunteers in cooking and serving a delicious hot meal\, then dine and converse with the men who are enrolled in the Interfaith Homeless Emergency Lodging Program (I-HELP). This evening the men will be welcomed\, fed\, and housed in our church facility. Our relationship with them is priceless. \n \n“I-HELP is the only emergency shelter open every night in the Monterey area without a waiting list for men and women: a hot meal\, a safe place and a caring community.” \n 
URL:https://www.allsaintscarmel.org/calendar/i-help-men-12/2027-01-11/
LOCATION:All Saints’ Seccombe Hall\, 9th and Dolores\, Carmel\, CA\, 93923\, United States
END:VEVENT
BEGIN:VEVENT
DTSTART;TZID=America/Los_Angeles:20270208T163000
DTEND;TZID=America/Los_Angeles:20270208T180000
DTSTAMP:20260421T081527
CREATED:20260326T073817Z
LAST-MODIFIED:20260326T074858Z
UID:10000757-1802104200-1802109600@www.allsaintscarmel.org
SUMMARY:I-HELP Men
DESCRIPTION:Seccombe Hall\, Ninth & Lincoln Ave. entrance\, Carmel-by-the-Sea\, CA\, United States\, 93921 \n“For I was hungry and you gave me food\, I was thirsty and you gave me something to drink….” Matthew 25:35 Join our volunteers in cooking and serving a delicious hot meal\, then dine and converse with the men who are enrolled in the Interfaith Homeless Emergency Lodging Program (I-HELP). This evening the men will be welcomed\, fed\, and housed in our church facility. Our relationship with them is priceless. \n \n“I-HELP is the only emergency shelter open every night in the Monterey area without a waiting list for men and women: a hot meal\, a safe place and a caring community.” \n 
URL:https://www.allsaintscarmel.org/calendar/i-help-men-12/2027-02-08/
LOCATION:All Saints’ Seccombe Hall\, 9th and Dolores\, Carmel\, CA\, 93923\, United States
END:VEVENT
BEGIN:VEVENT
DTSTART;TZID=America/Los_Angeles:20270308T163000
DTEND;TZID=America/Los_Angeles:20270308T180000
DTSTAMP:20260421T081527
CREATED:20260326T073817Z
LAST-MODIFIED:20260326T074858Z
UID:10000758-1804523400-1804528800@www.allsaintscarmel.org
SUMMARY:I-HELP Men
DESCRIPTION:Seccombe Hall\, Ninth & Lincoln Ave. entrance\, Carmel-by-the-Sea\, CA\, United States\, 93921 \n“For I was hungry and you gave me food\, I was thirsty and you gave me something to drink….” Matthew 25:35 Join our volunteers in cooking and serving a delicious hot meal\, then dine and converse with the men who are enrolled in the Interfaith Homeless Emergency Lodging Program (I-HELP). This evening the men will be welcomed\, fed\, and housed in our church facility. Our relationship with them is priceless. \n \n“I-HELP is the only emergency shelter open every night in the Monterey area without a waiting list for men and women: a hot meal\, a safe place and a caring community.” \n 
URL:https://www.allsaintscarmel.org/calendar/i-help-men-12/2027-03-08/
LOCATION:All Saints’ Seccombe Hall\, 9th and Dolores\, Carmel\, CA\, 93923\, United States
END:VEVENT
BEGIN:VEVENT
DTSTART;TZID=America/Los_Angeles:20270412T163000
DTEND;TZID=America/Los_Angeles:20270412T180000
DTSTAMP:20260421T081527
CREATED:20260326T073817Z
LAST-MODIFIED:20260326T074858Z
UID:10000759-1807547400-1807552800@www.allsaintscarmel.org
SUMMARY:I-HELP Men
DESCRIPTION:Seccombe Hall\, Ninth & Lincoln Ave. entrance\, Carmel-by-the-Sea\, CA\, United States\, 93921 \n“For I was hungry and you gave me food\, I was thirsty and you gave me something to drink….” Matthew 25:35 Join our volunteers in cooking and serving a delicious hot meal\, then dine and converse with the men who are enrolled in the Interfaith Homeless Emergency Lodging Program (I-HELP). This evening the men will be welcomed\, fed\, and housed in our church facility. Our relationship with them is priceless. \n \n“I-HELP is the only emergency shelter open every night in the Monterey area without a waiting list for men and women: a hot meal\, a safe place and a caring community.” \n 
URL:https://www.allsaintscarmel.org/calendar/i-help-men-12/2027-04-12/
LOCATION:All Saints’ Seccombe Hall\, 9th and Dolores\, Carmel\, CA\, 93923\, United States
END:VEVENT
BEGIN:VEVENT
DTSTART;TZID=America/Los_Angeles:20270510T163000
DTEND;TZID=America/Los_Angeles:20270510T180000
DTSTAMP:20260421T081527
CREATED:20260326T073817Z
LAST-MODIFIED:20260326T074858Z
UID:10000760-1809966600-1809972000@www.allsaintscarmel.org
SUMMARY:I-HELP Men
DESCRIPTION:Seccombe Hall\, Ninth & Lincoln Ave. entrance\, Carmel-by-the-Sea\, CA\, United States\, 93921 \n“For I was hungry and you gave me food\, I was thirsty and you gave me something to drink….” Matthew 25:35 Join our volunteers in cooking and serving a delicious hot meal\, then dine and converse with the men who are enrolled in the Interfaith Homeless Emergency Lodging Program (I-HELP). This evening the men will be welcomed\, fed\, and housed in our church facility. Our relationship with them is priceless. \n \n“I-HELP is the only emergency shelter open every night in the Monterey area without a waiting list for men and women: a hot meal\, a safe place and a caring community.” \n 
URL:https://www.allsaintscarmel.org/calendar/i-help-men-12/2027-05-10/
LOCATION:All Saints’ Seccombe Hall\, 9th and Dolores\, Carmel\, CA\, 93923\, United States
END:VEVENT
BEGIN:VEVENT
DTSTART;TZID=America/Los_Angeles:20270614T163000
DTEND;TZID=America/Los_Angeles:20270614T180000
DTSTAMP:20260421T081527
CREATED:20260326T073817Z
LAST-MODIFIED:20260326T074858Z
UID:10000761-1812990600-1812996000@www.allsaintscarmel.org
SUMMARY:I-HELP Men
DESCRIPTION:Seccombe Hall\, Ninth & Lincoln Ave. entrance\, Carmel-by-the-Sea\, CA\, United States\, 93921 \n“For I was hungry and you gave me food\, I was thirsty and you gave me something to drink….” Matthew 25:35 Join our volunteers in cooking and serving a delicious hot meal\, then dine and converse with the men who are enrolled in the Interfaith Homeless Emergency Lodging Program (I-HELP). This evening the men will be welcomed\, fed\, and housed in our church facility. Our relationship with them is priceless. \n \n“I-HELP is the only emergency shelter open every night in the Monterey area without a waiting list for men and women: a hot meal\, a safe place and a caring community.” \n 
URL:https://www.allsaintscarmel.org/calendar/i-help-men-12/2027-06-14/
LOCATION:All Saints’ Seccombe Hall\, 9th and Dolores\, Carmel\, CA\, 93923\, United States
END:VEVENT
END:VCALENDAR